BEGIN:VCALENDAR
VERSION:2.0
PRODID:-//Superhits 93.5 - ECPv6.15.20//NONSGML v1.0//EN
CALSCALE:GREGORIAN
METHOD:PUBLISH
X-ORIGINAL-URL:https://superhits935.com
X-WR-CALDESC:Events for Superhits 93.5
REFRESH-INTERVAL;VALUE=DURATION:PT1H
X-Robots-Tag:noindex
X-PUBLISHED-TTL:PT1H
BEGIN:VTIMEZONE
TZID:America/Chicago
BEGIN:DAYLIGHT
TZOFFSETFROM:-0600
TZOFFSETTO:-0500
TZNAME:CDT
DTSTART:20240310T080000
END:DAYLIGHT
BEGIN:STANDARD
TZOFFSETFROM:-0500
TZOFFSETTO:-0600
TZNAME:CST
DTSTART:20241103T070000
END:STANDARD
BEGIN:DAYLIGHT
TZOFFSETFROM:-0600
TZOFFSETTO:-0500
TZNAME:CDT
DTSTART:20250309T080000
END:DAYLIGHT
BEGIN:STANDARD
TZOFFSETFROM:-0500
TZOFFSETTO:-0600
TZNAME:CST
DTSTART:20251102T070000
END:STANDARD
BEGIN:DAYLIGHT
TZOFFSETFROM:-0600
TZOFFSETTO:-0500
TZNAME:CDT
DTSTART:20260308T080000
END:DAYLIGHT
BEGIN:STANDARD
TZOFFSETFROM:-0500
TZOFFSETTO:-0600
TZNAME:CST
DTSTART:20261101T070000
END:STANDARD
END:VTIMEZONE
BEGIN:VEVENT
DTSTART;TZID=America/Chicago:20250729T080000
DTEND;TZID=America/Chicago:20250803T230000
DTSTAMP:20260425T034150
CREATED:20250720T193606Z
LAST-MODIFIED:20250727T202525Z
UID:9405-1753776000-1754262000@superhits935.com
SUMMARY:Mississippi Valley Fair in Davenport
DESCRIPTION:Mississippi Valley Fair in Davenport July 29-August 3rd (Kane Brown 29th & Maddie & Tae and LOCASH 30th and Jon Pardi 8/3) Full schedule at https://mvfair.com/ 
URL:https://superhits935.com/event/mississippi-valley-fair-in-davenport/
END:VEVENT
BEGIN:VEVENT
DTSTART;TZID=America/Chicago:20250730T080000
DTEND;TZID=America/Chicago:20250803T230000
DTSTAMP:20260425T034150
CREATED:20250713T195601Z
LAST-MODIFIED:20250713T195601Z
UID:9000-1753862400-1754262000@superhits935.com
SUMMARY:Ogle County Fair
DESCRIPTION:Get ready for family fun at the 2025 Ogle County Fair\, July 30th through August 3rd!  Admission is only $10 and includes unlimited carnival rides\, yes\, I said unlimited.  Kids 4 and under enter free and can enjoy all the rides for just $5.  Enjoy two free on-ground shows\, nightly live music\, exhibits\, food\, games\, and so much more.  Don’t miss the Tractor Pulls\, Demolition Derby\, and our new rodeo by T&A Bucking Bulls in our grandstands for an extra $15.  Visit OgleCountyFair.com for tickets and the full schedule or find us on Facebook.  Discounted admission tickets are available before the fair begins. \n 
URL:https://superhits935.com/event/ogle-county-fair/
END:VEVENT
BEGIN:VEVENT
DTSTART;TZID=America/Chicago:20250731T080000
DTEND;TZID=America/Chicago:20250803T170000
DTSTAMP:20260425T034150
CREATED:20250722T162927Z
LAST-MODIFIED:20250722T162927Z
UID:9544-1753948800-1754240400@superhits935.com
SUMMARY:Franklin Grove Summer Harvest Festival
DESCRIPTION:The Summer Harvest Festival at Chaplin Creek in Franklin Grove July 31st – August 3rd\, don’t miss the art show\, city wide rummage sales\, living history antique equipment show\, the Big Rig Show\, craft and vendors\, parade and new this year the Northwest Territory Alliance Revolutionary War Encampment\, Old Fashioned Stone Boat Tractor Pull and Fall Paint Crafts. Follow F G Summer Harvest Fest on Facebook for more! The Summer Harvest Festival at Chaplin Creek in Franklin Grove July 31st – August 3rd
URL:https://superhits935.com/event/franklin-grove-summer-harvest-festival/
END:VEVENT
BEGIN:VEVENT
DTSTART;TZID=America/Chicago:20250731T080000
DTEND;TZID=America/Chicago:20250803T220000
DTSTAMP:20260425T034150
CREATED:20250715T115502Z
LAST-MODIFIED:20250715T115502Z
UID:9153-1753948800-1754258400@superhits935.com
SUMMARY:Forreston Sauerkraut Days
DESCRIPTION:Bring on the Kraut and Forreston Sauerkraut Days 2025! July 31st-August 3rd. From the Kids fun run and 5K and the Kraut Dyas 5K\, fireworks at Forreston High School\, Food Trucks\, Beer Garden\, Outdoor Movie featuring Despicable Me 4\, DJ & Karaoke\, car and bike show\, craft and vendors\, Bingo\, Parade\, love music from the Killer B’s Watermelon eating contest\, Lion’s Club Pork Chop dinner\, and don’t miss out on the official American Legion Sauerkraut Lunch\, for the full schedule and more go to krautdays.com Sauerkraut Days is made for making memories together right here\, in Forreston.
URL:https://superhits935.com/event/forreston-sauerkraut-days/
END:VEVENT
BEGIN:VEVENT
DTSTART;TZID=America/Chicago:20250801T190000
DTEND;TZID=America/Chicago:20250801T210000
DTSTAMP:20260425T034150
CREATED:20250720T194037Z
LAST-MODIFIED:20250720T194037Z
UID:9413-1754074800-1754082000@superhits935.com
SUMMARY:Mt. Morris Jamboree – Brass From The Past
DESCRIPTION:Mt. Morris Jamboree – Brass From The Past! 7pm FREE to attend
URL:https://superhits935.com/event/mt-morris-jamboree-brass-from-the-past/
END:VEVENT
BEGIN:VEVENT
DTSTART;TZID=America/Chicago:20250801T190000
DTEND;TZID=America/Chicago:20250802T220000
DTSTAMP:20260425T034150
CREATED:20250727T212010Z
LAST-MODIFIED:20250727T212010Z
UID:9832-1754074800-1754172000@superhits935.com
SUMMARY:VCCT presents “Beanstalk! The Play!”
DESCRIPTION:VCCT presents a young person’s production of “Beanstalk! The Play!” A delightful one-act show features a cast of talented kids\, teens\, and adults and will entertain audiences of all ages! This fun family show follows the adventures of Jack\, a young boy with his head in the clouds and his nose in a book of fairytales. When the magic beans Jack trades for the family cow grows into a gigantic beanstalk\, Jack finally gets the chance to have a fairytale adventure of his very own. Then Stick around for a bonus second act where our cast will entertain you while racing the clock to complete “40 Plays in 40 Minutes” Tickets available online at VCCTRochelle.org or at the door. $20 for adults and $10 for kids 12 and under. Beanstalk! The Play!” July 25th\, 26th 27th and August 1st & 2nd  performances at the Lincoln Arts Center 108 S. Main Street Rochelle.
URL:https://superhits935.com/event/vcct-presents-beanstalk-the-play-2/
END:VEVENT
BEGIN:VEVENT
DTSTART;TZID=America/Chicago:20250802T130000
DTEND;TZID=America/Chicago:20250802T160000
DTSTAMP:20260425T034150
CREATED:20250716T151027Z
LAST-MODIFIED:20250716T151027Z
UID:9223-1754139600-1754150400@superhits935.com
SUMMARY:Whiskey Jamboree at Kennay Farms Distilling
DESCRIPTION:Make plans to attend Whiskey Jamboree\, Saturday August 2nd at Kennay Farms Distilling in Rochelle from 1-4pm. Kennay Farms Special Release: Cask Strength\, Double Oaked Single Barrel Bourbon\, the Tasting Room will be open during the event & until 8pm that evening. BBQ from Big O’s BBQ along with Spirits sampling from Driftless Glen\, Star Union Spirits and ROCK ‘N Vodka. It’s Whiskey Jamboree\, Saturday August 2nd at Kennay Farms Distilling in Rochelle from 1-4pm. \n 
URL:https://superhits935.com/event/whiskey-jamboree-at-kennay-farms-distilling/
END:VEVENT
BEGIN:VEVENT
DTSTART;TZID=America/Chicago:20250802T130000
DTEND;TZID=America/Chicago:20250802T180000
DTSTAMP:20260425T034150
CREATED:20250709T214829Z
LAST-MODIFIED:20250709T214829Z
UID:8825-1754139600-1754157600@superhits935.com
SUMMARY:Tails Humane Society to Host Tails on Tap
DESCRIPTION:Tails Humane Society to Host Tails on Tap: Bar Crawl in Downtown Sycamore on August 2\nSycamore\, IL — Raise a glass for a great cause! Tails Humane Society invites you to our Tails on Tap: Bar Crawl in Downtown Sycamore on Saturday\, August 2nd from 1:00 to 6:00 p.m. For just $30\, attendees will enjoy food or drink specials at participating venues\, a souvenir lanyard\, two raffle tickets\, and a Bar Crawl Bingo card for added fun!\nTickets can be purchased online in advance or at the registration table outside MVP Sports Bar from 1:00 to 3:00 p.m. on the day of the event. All proceeds support Tails Humane Society’s mission to provide care\, medical treatment\, and second chances to animals in need! \nFor more information or to purchase tickets\, visit: https://www.tailshumanesociety.org/events/tails-on-tap/
URL:https://superhits935.com/event/tails-humane-society-to-host-tails-on-tap/
END:VEVENT
BEGIN:VEVENT
DTSTART;TZID=America/Chicago:20250805T080000
DTEND;TZID=America/Chicago:20250810T230000
DTSTAMP:20260425T034150
CREATED:20250727T212215Z
LAST-MODIFIED:20250727T212215Z
UID:9834-1754380800-1754866800@superhits935.com
SUMMARY:The Boone County Fair
DESCRIPTION:The #1 County Fair opens Aug 5th – 10th.\, 2025 The Boone County Fair features 100 acres of fun with livestock\, home arts exhibits\, vendors\, fair food\, free entertainment\, grandstand shows\, huge carnival and midway. Tons of fun for the whole family!
URL:https://superhits935.com/event/the-boone-county-fair/
END:VEVENT
BEGIN:VEVENT
DTSTART;TZID=America/Chicago:20250805T170000
DTEND;TZID=America/Chicago:20250805T200000
DTSTAMP:20260425T034150
CREATED:20250715T115409Z
LAST-MODIFIED:20250727T205617Z
UID:9149-1754413200-1754424000@superhits935.com
SUMMARY:National Night Out In Rochelle
DESCRIPTION:National Night Out gives the community an opportunity to forge relationships with local law enforcement held the first Tuesday in August\, this year August 5th from 5-8pm at Atwood Park in Rochelle. Join the Rochelle Police Department for this family fun event – music\, local vendors\, free hot dogs\, demonstrations and more. Free to attend. National Night Out is an annual community-building campaign that promotes police-community partnerships and neighborhood camaraderie to make our neighborhoods safer\, more caring places to live. National Night out with the Rochelle Police Department August 5th from 5-8pm at Atwood Park in Rochelle. Plus 102.3 The Coyote!
URL:https://superhits935.com/event/national-night-out/
END:VEVENT
BEGIN:VEVENT
DTSTART;TZID=America/Chicago:20250805T173000
DTEND;TZID=America/Chicago:20250805T193000
DTSTAMP:20260425T034150
CREATED:20250727T205400Z
LAST-MODIFIED:20250727T205400Z
UID:9826-1754415000-1754422200@superhits935.com
SUMMARY:National Night Out with the Oregon Police Department
DESCRIPTION:Come celebrate National Night Out with the Oregon Police Department on August 5th from 5:30p.m. to 7:30p.m. We will be located at 123 N. 2nd St where the Rivers Edge Farmers Market is held. This will be your chance to meet/speak with some great community organizations and enjoy a small touch-a-truck event PLUS 102.3 The Coyote!
URL:https://superhits935.com/event/national-night-out-with-the-oregon-police-department/
END:VEVENT
BEGIN:VEVENT
DTSTART;TZID=America/Chicago:20250807T070000
DTEND;TZID=America/Chicago:20250810T170000
DTSTAMP:20260425T034150
CREATED:20250727T212454Z
LAST-MODIFIED:20250727T212454Z
UID:9838-1754550000-1754845200@superhits935.com
SUMMARY:Sycamore Steam Show
DESCRIPTION:The Sycamore Steam Show returns August 7–10\, 2025\, bringing four days of history\, horsepower\, and hands-on heritage to the Taylor Marshall Farm. Now in its 68th year\, this beloved family-friendly event offers a unique opportunity to experience America’s mechanical past in motion—with live demonstrations\, vintage equipment\, and plenty of small-town charm.\nThe show features a massive collection of operating machinery from days gone by. Attendees can witness threshing and sawmill demonstrations\, explore an extensive flea market\, enjoy a daily parade showcasing beautifully restored equipment\, and so much more.\nA highlight of this year’s show is the 100th anniversary celebration of the show’s Erie Type “A” Steam Shovel—a century-old marvel of engineering still in operation today. One of only 5 and a half examples\, this rare piece of American industrial history will be running throughout the weekend\, giving spectators a chance to see it dig and swing just as it did in the 1920s.\n“The Sycamore Steam Show is where generations come together to remember how things used to be built—and built to last\,” said Charlie Hubbard\, Northern Illinois Steam Power Club President. “We’re proud to celebrate our past while making new memories every year.”\nThe Sycamore Steam Show was started in 1957 by the Northern Illinois Steam Power Club\, and has become one of the Midwest’s longest-running vintage machinery events. Held annually on the Taylor Marshall Farm\, it is dedicated to preserving the history of steam and to provide education programs about steam power.\nThe Sycamore Steam Show is a true family affair\, offering hands-on fun and excitement for kids of all ages. From the rumble of antique tractors to the whistle of steam engines\, young visitors are captivated by the sights\, sounds\, and motion all around. It’s like an amusement park for farm kids—where the rides are barrel trains\, the roller coasters are parade tractors\, and the exhibits actually work.\nFamilies can explore the grounds together\, watch real steam-powered sawmills and threshing demonstrations\, and take in the daily parade packed with vintage machinery. With plenty of space to roam\, shaded seating areas\, and a variety of food vendors and treats\, it’s easy to spend the entire day making memories. Whether your kids are tractor-obsessed or just love being outdoors\, there’s something around every corner to keep them smiling and engaged.\nBeyond the fun\, the Sycamore Steam Show is a living history lesson—an immersive opportunity for kids and adults alike to learn about how agriculture and machinery shaped our region. Through up-close demonstrations\, volunteers bring the past to life\, explaining how steam engines powered everything from farms to factories. Visitors can see century-old equipment in motion\, ask questions\, and gain a deeper appreciation for the innovation and hard work that built rural America. It’s the kind of hands-on education that sticks with kids long after the day is over—history\, engineering\, and farming all rolled into one unforgettable experience.\nEvent Details: 📍 Location: Taylor Marshall Farm – 27707 Lukens Rd.\, Sycamore\, IL 📅 Dates: August 7–10\, 2025 🕘 Gates Open: 7:00 AM daily 🎟️ Admission: Tickets available at the gate (Cash Only)\nFor full event details visit www.sycamoresteamshow.com.
URL:https://superhits935.com/event/sycamore-steam-show/
END:VEVENT
BEGIN:VEVENT
DTSTART;TZID=America/Chicago:20250807T090000
DTEND;TZID=America/Chicago:20250810T220000
DTSTAMP:20260425T034150
CREATED:20250727T212649Z
LAST-MODIFIED:20250727T212649Z
UID:9840-1754557200-1754863200@superhits935.com
SUMMARY:Mendota Sweet Corn Festival
DESCRIPTION:The Mendota Sweet Corn Festival organized and ran by the Mendota Area Chamber of Commerce occurs the second weekend of August every year. 40\,000 visitors will enjoy sweet corn\, carnival\, and much more. August 7-10 2025.
URL:https://superhits935.com/event/mendota-sweet-corn-festival/
END:VEVENT
BEGIN:VEVENT
DTSTART;TZID=America/Chicago:20250807T100000
DTEND;TZID=America/Chicago:20250807T120000
DTSTAMP:20260425T034150
CREATED:20250727T212856Z
LAST-MODIFIED:20250727T212856Z
UID:9844-1754560800-1754568000@superhits935.com
SUMMARY:The Coyote LIVE at DeKalb Farmers Market 10am-Noon
DESCRIPTION:The Coyote LIVE at DeKalb Farmers Market 10am-Noon
URL:https://superhits935.com/event/the-coyote-live-at-dekalb-farmers-market-10am-noon/
END:VEVENT
BEGIN:VEVENT
DTSTART;TZID=America/Chicago:20250807T100000
DTEND;TZID=America/Chicago:20250807T140000
DTSTAMP:20260425T034150
CREATED:20250727T212255Z
LAST-MODIFIED:20250727T212255Z
UID:9836-1754560800-1754575200@superhits935.com
SUMMARY:DeKalb Farmers’ Market
DESCRIPTION:This summer the DeKalb Farmers’ Market is celebrating 30 years of supporting local farmers and artisans! Presented by Northwestern Medicine\, the market runs every Thursday from 10am to 2pm in Van Buer Plaza in Downtown DeKalb. Shop everything homegrown and homemade from farm-fresh produce and fresh-cut flowers to baked treats and handcrafted goods. Grab lunch from a local food truck and enjoy live music from the Egyptian Theatre’s Live Lunch Music Series. And don’t miss our Link Match program—get up to $25 in free produce when you use your Link card! Support local this summer at the DeKalb Farmers’ Market proudly supported by Triple A Roofing and Gavin Wilson with Country Financial.
URL:https://superhits935.com/event/dekalb-farmers-market-6/
END:VEVENT
BEGIN:VEVENT
DTSTART;TZID=America/Chicago:20250807T170000
DTEND;TZID=America/Chicago:20250807T190000
DTSTAMP:20260425T034150
CREATED:20250727T212805Z
LAST-MODIFIED:20250727T212805Z
UID:9842-1754586000-1754593200@superhits935.com
SUMMARY:The Coyote LIVE At Mendota Sweet Corn Festival!
DESCRIPTION:The Coyote LIVE At Mendota Sweet Corn Festival! 5-7pm.
URL:https://superhits935.com/event/the-coyote-live-at-mendota-sweet-corn-festival/
END:VEVENT
BEGIN:VEVENT
DTSTART;TZID=America/Chicago:20250808T080000
DTEND;TZID=America/Chicago:20250824T170000
DTSTAMP:20260425T034150
CREATED:20250722T162838Z
LAST-MODIFIED:20250722T162838Z
UID:9542-1754640000-1756054800@superhits935.com
SUMMARY:US National Straw Sculpting Competition In Mt Morris
DESCRIPTION:The 10th annual US National Straw Sculpting Competition is set for August 8th-24th in Mt Morris\, with Straw Fest Day Saturday August 23rd. See all the amazing straw sculptures on display in downtown Mt Morris\, and vote for your favorite and see whats new form 2025. Presented by Encore Mt Morris\, for more info and this years full schedule go to straw USA.com\, The 10th annual US National Straw Sculpting Competition August 8th-24th in Mt Morris.
URL:https://superhits935.com/event/us-national-straw-sculpting-competition-in-mt-morris/
END:VEVENT
BEGIN:VEVENT
DTSTART;TZID=America/Chicago:20250808T100000
DTEND;TZID=America/Chicago:20250808T170000
DTSTAMP:20260425T034150
CREATED:20250715T115824Z
LAST-MODIFIED:20250715T115824Z
UID:9162-1754647200-1754672400@superhits935.com
SUMMARY:Focus House Golf Play Day
DESCRIPTION:The 3rd Annual Foundation for Focus House Golf Play Day is set for August 8th  at Silver Ridge Golf Course in Oregon. Registration starts s at 10am\, refreshments at 10:30 then shotgun start at 11:30am. All proceeds benefit the youth receiving services at Focus House\, and someone could win a new car from Prescott Brothers Ford in Rochelle with the hole in one contest.  For more information about this years play day call (815) 562-5881 or go to foundationforfocushouse.com
URL:https://superhits935.com/event/focus-house-golf-play-day/
END:VEVENT
BEGIN:VEVENT
DTSTART;TZID=America/Chicago:20250808T190000
DTEND;TZID=America/Chicago:20250808T210000
DTSTAMP:20260425T034150
CREATED:20250727T213151Z
LAST-MODIFIED:20250727T213151Z
UID:9846-1754679600-1754686800@superhits935.com
SUMMARY:Mt. Morris Jamboree – The Jimmys!
DESCRIPTION:Mt. Morris Jamboree – The Jimmys! 7pm FREE to attend
URL:https://superhits935.com/event/mt-morris-jamboree-the-jimmys/
END:VEVENT
BEGIN:VEVENT
DTSTART;TZID=America/Chicago:20250808T190000
DTEND;TZID=America/Chicago:20250808T220000
DTSTAMP:20260425T034150
CREATED:20250716T153753Z
LAST-MODIFIED:20250716T153753Z
UID:9226-1754679600-1754690400@superhits935.com
SUMMARY:Double Vision: Coming to the Dixon Historic Theatre
DESCRIPTION:Double Vision: Coming to the Dixon Historic Theatre on August 8th\, Double Vision recreates the Foreigner sound\, note for note\, with the highest level of accuracy and technical prowess\, resulting in a legitimate tribute and authentic performance. Second to none at recreating the masterful songs Foreigner fans worldwide have come to love\, Double Vision brings audiences an unforgettable experience with ear to ear smiles\, singing\, dancing and clapping along to some of the greatest hit songs from the 70’s & 80’s\, including “Juke Box Hero\,” “Hot Blooded\,” “Cold As Ice\,” “I Want To Know What Love Is\,” “Urgent\,” “Double Vision\,” “Head Games\,” “Feels Like the First Time\,” and more!  Get your tickets today at DixonTheatre.com. \n 
URL:https://superhits935.com/event/double-vision-coming-to-the-dixon-historic-theatre/
END:VEVENT
BEGIN:VEVENT
DTSTART;TZID=America/Chicago:20250808T200000
DTEND;TZID=America/Chicago:20250808T213000
DTSTAMP:20260425T034150
CREATED:20250630T154352Z
LAST-MODIFIED:20250711T135416Z
UID:8329-1754683200-1754688600@superhits935.com
SUMMARY:City of Rochelle Presents\, Movie In The Park
DESCRIPTION:The City of Rochelle Presents\, Movie In The Park Friday August 8th at Atwood Park Band Shell starting at 8pm. The movie will begin at dusk\, free to attend\, bring the whole family. Children 13 and under must be accompanied by an adult. This years movie is Dream Works Dog Man. The City of Rochelle Presents\, Movie In The Park Friday August 8th at Atwood Park Band Shell\, 8pm the movie starts at dusk!
URL:https://superhits935.com/event/city-of-rochelle-presents-movie-in-the-park/
END:VEVENT
BEGIN:VEVENT
DTSTART;TZID=America/Chicago:20250809T080000
DTEND;TZID=America/Chicago:20250809T170000
DTSTAMP:20260425T034150
CREATED:20250728T145952Z
LAST-MODIFIED:20250728T145952Z
UID:9897-1754726400-1754758800@superhits935.com
SUMMARY:2025 Pfeiffer Farms Outdoor Market
DESCRIPTION:The 5th Annual outdoor market at Pfeiffer Farms in Ashton will take place Saturday August 9th. Over 60 vendors to shop\, also including Pfeifer’s Burgers and pulled pork\, Little O’s Frozen Treats\, Ruby’s Coffee Truck\, Ms Mint Popsicles\, Southwest Taco Truck and Main Squeeze Lemonade\, and live music by Burn N Bush. 2025 Pfeiffer Farms Outdoor Market Saturday August 9th  2511 Reynolds Road in Ashton.
URL:https://superhits935.com/event/2025-pfeiffer-farms-outdoor-market/
END:VEVENT
BEGIN:VEVENT
DTSTART;TZID=America/Chicago:20250809T190000
DTEND;TZID=America/Chicago:20250809T220000
DTSTAMP:20260425T034150
CREATED:20250727T213353Z
LAST-MODIFIED:20250727T213353Z
UID:9848-1754766000-1754776800@superhits935.com
SUMMARY:Justin Moore LIVE at the Boone County Fair!
DESCRIPTION:The Coyote helps to welcome Justin Moore to the Boone County Fair in Belvidere Saturday August 9th along with special guest Noah Hicks. Tickets on sale now at Boone County Fair.com  The Boone County Fair August 5-10 in Belvidere.
URL:https://superhits935.com/event/justin-moore-live-at-the-boone-county-fair/
END:VEVENT
BEGIN:VEVENT
DTSTART;TZID=America/Chicago:20250809T190000
DTEND;TZID=America/Chicago:20250809T230000
DTSTAMP:20260425T034150
CREATED:20241112T175831Z
LAST-MODIFIED:20241112T175902Z
UID:1137-1754766000-1754780400@superhits935.com
SUMMARY:Thomas Rhett Live with Special Guests Tucker Wetmore and Dasha
DESCRIPTION:Thomas Rhett Live with Special Guests Tucker Wetmore and Dasha\nBetter in Boots Tour \nSaturday\, August 9th\, 2025 \nAlpine Valley Music Theatre \nEast Troy\, WI
URL:https://superhits935.com/event/thomas-rhett-live-with-special-guests-tucker-wetmore-and-dasha/
LOCATION:Alpine Valley Music Theatre\, 2699 Co Rd D\, East Troy\, WI\, 53120
ATTACH;FMTTYPE=image/jpeg:https://superhits935.com/wp-content/uploads/2024/10/9162444406-ThomasRhettrotator002.jpg
END:VEVENT
BEGIN:VEVENT
DTSTART;TZID=America/Chicago:20250810T100000
DTEND;TZID=America/Chicago:20250810T180000
DTSTAMP:20260425T034150
CREATED:20250722T162721Z
LAST-MODIFIED:20250722T162721Z
UID:9540-1754820000-1754848800@superhits935.com
SUMMARY:Fly In Drive In at the Rochelle Municipal Airport
DESCRIPTION:It’s the return of the Fly In Drive In at the Rochelle Municipal Airport Sunday August 10th from 10am till 6pm\, Air Show and Car Show\, featuring the Hamilton Collection Bugatti (boo gaa tee) Sports Car. Food\, music\, skydiving\, trike rides\, petting zoo\, bounce houses\, Military Displays and 1023 The Coyote & SuperHits 935 will also be there! Free to attend. It’s the return of the Fly In Drive In at the Rochelle Municipal Airport Sunday August 10th from 10am till 6pm.
URL:https://superhits935.com/event/fly-in-drive-in-at-the-rochelle-municipal-airport/
END:VEVENT
BEGIN:VEVENT
DTSTART;TZID=America/Chicago:20250810T170000
DTEND;TZID=America/Chicago:20250810T183000
DTSTAMP:20260425T034150
CREATED:20250727T210034Z
LAST-MODIFIED:20250727T210034Z
UID:9830-1754845200-1754850600@superhits935.com
SUMMARY:Foreigner pre-show block party!
DESCRIPTION:Get ready for an exciting night downtown before the Foreigner concert with a pre-show block party on August 10th at the Coronado Theatre! There will be food and snacks available for purchase & SuperHits 93.5 will be there giving you chances to win! \nWHERE: N. MAIN STREET BLOCK \nBLOCK PARTY: 5PM – 6:30PM *no re-entry* \nVENUE DOORS OPEN: 6:30PM \nSHOW STARTS: 7:30PM
URL:https://superhits935.com/event/foreigner-pre-show-block-party/
END:VEVENT
BEGIN:VEVENT
DTSTART;TZID=America/Chicago:20250810T200000
DTEND;TZID=America/Chicago:20250810T220000
DTSTAMP:20260425T034150
CREATED:20250323T172009Z
LAST-MODIFIED:20250323T172009Z
UID:3341-1754856000-1754863200@superhits935.com
SUMMARY:Foreigner LIVE at the Coronado
DESCRIPTION:SuperHits 93.5 welcomes Foreigner to the Coronado in Rockford August 10th! The Rock N Roll Hall of Fame Celebration! Tickets on sale at the box office and all Ticketmaster Locations!
URL:https://superhits935.com/event/foreigner-live-at-the-coronado/
END:VEVENT
BEGIN:VEVENT
DTSTART;TZID=America/Chicago:20250812T173000
DTEND;TZID=America/Chicago:20250812T193000
DTSTAMP:20260425T034150
CREATED:20250803T203804Z
LAST-MODIFIED:20250803T203804Z
UID:10133-1755019800-1755027000@superhits935.com
SUMMARY:Cruise Nights and Food Trucks at Shane Huber State Farm
DESCRIPTION:Cruise Nights and Food Trucks at Shane Huber State Farm 5:30-7:30pm
URL:https://superhits935.com/event/cruise-nights-and-food-trucks-at-shane-huber-state-farm/
END:VEVENT
BEGIN:VEVENT
DTSTART;TZID=America/Chicago:20250814T100000
DTEND;TZID=America/Chicago:20250814T140000
DTSTAMP:20260425T034150
CREATED:20250803T203850Z
LAST-MODIFIED:20250803T203850Z
UID:10135-1755165600-1755180000@superhits935.com
SUMMARY:DeKalb Farmers’ Market
DESCRIPTION:This summer the DeKalb Farmers’ Market is celebrating 30 years of supporting local farmers and artisans! Presented by Northwestern Medicine\, the market runs every Thursday from 10am to 2pm in Van Buer Plaza in Downtown DeKalb. Shop everything homegrown and homemade from farm-fresh produce and fresh-cut flowers to baked treats and handcrafted goods. Grab lunch from a local food truck and enjoy live music from the Egyptian Theatre’s Live Lunch Music Series. And don’t miss our Link Match program—get up to $25 in free produce when you use your Link card! Support local this summer at the DeKalb Farmers’ Market proudly supported by Triple A Roofing and Gavin Wilson with Country Financial.
URL:https://superhits935.com/event/dekalb-farmers-market-7/
END:VEVENT
BEGIN:VEVENT
DTSTART;TZID=America/Chicago:20250814T160000
DTEND;TZID=America/Chicago:20250814T190000
DTSTAMP:20260425T034150
CREATED:20250803T203956Z
LAST-MODIFIED:20250803T203956Z
UID:10137-1755187200-1755198000@superhits935.com
SUMMARY:Stillman Valley Farmers Market
DESCRIPTION:Stillman Valley Farmers Market 4-7pm
URL:https://superhits935.com/event/stillman-valley-farmers-market-3/
END:VEVENT
END:VCALENDAR