BEGIN:VCALENDAR
VERSION:2.0
PRODID:-//Superhits 93.5 - ECPv6.15.20//NONSGML v1.0//EN
CALSCALE:GREGORIAN
METHOD:PUBLISH
X-WR-CALNAME:Superhits 93.5
X-ORIGINAL-URL:https://superhits935.com
X-WR-CALDESC:Events for Superhits 93.5
REFRESH-INTERVAL;VALUE=DURATION:PT1H
X-Robots-Tag:noindex
X-PUBLISHED-TTL:PT1H
BEGIN:VTIMEZONE
TZID:America/Chicago
BEGIN:DAYLIGHT
TZOFFSETFROM:-0600
TZOFFSETTO:-0500
TZNAME:CDT
DTSTART:20240310T080000
END:DAYLIGHT
BEGIN:STANDARD
TZOFFSETFROM:-0500
TZOFFSETTO:-0600
TZNAME:CST
DTSTART:20241103T070000
END:STANDARD
BEGIN:DAYLIGHT
TZOFFSETFROM:-0600
TZOFFSETTO:-0500
TZNAME:CDT
DTSTART:20250309T080000
END:DAYLIGHT
BEGIN:STANDARD
TZOFFSETFROM:-0500
TZOFFSETTO:-0600
TZNAME:CST
DTSTART:20251102T070000
END:STANDARD
BEGIN:DAYLIGHT
TZOFFSETFROM:-0600
TZOFFSETTO:-0500
TZNAME:CDT
DTSTART:20260308T080000
END:DAYLIGHT
BEGIN:STANDARD
TZOFFSETFROM:-0500
TZOFFSETTO:-0600
TZNAME:CST
DTSTART:20261101T070000
END:STANDARD
END:VTIMEZONE
BEGIN:VEVENT
DTSTART;TZID=America/Chicago:20250711T190000
DTEND;TZID=America/Chicago:20250711T210000
DTSTAMP:20260421T035705
CREATED:20250629T190914Z
LAST-MODIFIED:20250629T190914Z
UID:8248-1752260400-1752267600@superhits935.com
SUMMARY:Mt. Morris Jamboree – The All Star Superband!
DESCRIPTION:Mt. Morris Jamboree – The All Star Superband! 7pm FREE to attend
URL:https://superhits935.com/event/mt-morris-jamboree-the-all-star-superband/
END:VEVENT
BEGIN:VEVENT
DTSTART;TZID=America/Chicago:20250712T080000
DTEND;TZID=America/Chicago:20250712T140000
DTSTAMP:20260421T035705
CREATED:20250629T191627Z
LAST-MODIFIED:20250629T191627Z
UID:8256-1752307200-1752328800@superhits935.com
SUMMARY:34th Annual Hib Reber Memorial Car Show
DESCRIPTION:34th Annual Hib Reber Memorial Car Show. \nWhen: \nJuly 12\, 2025 @ 8:00 am – 2:00 pm \n\nWhere:\n\nUnited Church of Byron\n701 W. Second Street Byron\nIllinois 61010
URL:https://superhits935.com/event/34th-annual-hib-reber-memorial-car-show/
END:VEVENT
BEGIN:VEVENT
DTSTART;TZID=America/Chicago:20250712T130000
DTEND;TZID=America/Chicago:20250712T150000
DTSTAMP:20260421T035705
CREATED:20250619T133912Z
LAST-MODIFIED:20250619T133912Z
UID:7830-1752325200-1752332400@superhits935.com
SUMMARY:Dancing Queen:  An ABBA Salute is performing in Bishop Hill
DESCRIPTION:The Bishop Hill Heritage Association is pleased to announce that an ABBA tribute band will be performing at 1 p.m. in the village park in Bishop Hill IL on Saturday July 12\, 2025.  DANCING QUEEN: An ABBA Salute is the ultimate tribute to the music of ABBA – sure to capture the hearts of fans and audiences of all ages! This live show is full of musical precision\, fabulous flair and fashion\, and promises a mesmerizing ABBA experience for every Chiquitita\, Super Trouper\, Fernando\, and Dancing Queen around!  Fronted by a dynamic Agnetha and Frida duo\, the music of the greatest pop band in history comes to life in a joyful celebration of these timeless tunes. “DANCING QUEEN: An ABBA Salute” is the Midwest’s longtime #1 ABBA tribute\, with a repertoire of over 30 all-time favorite hits. From Waterloo to Mamma Mia\, SOS to Knowing Me Knowing You\, Honey Honey to Voulez-Vous\, audiences won’t be able to help singing and dancing along with this high-energy homage to everything ABBA! \nIn addition to the two-hour concert\, local organizations will be offering food and drinks.  The Bishop Hill Old Settlers’ Association will have a food stand\, located next to the Colony Store.  Also\, the Bishop Hill Methodist Church will also be having a bake sale next to the Steeple Building Museum.  Uncle Bud’s Apple Cider Slush will be located between the Prairie Arts Center and the Post Office on Christina Street\, across from the park. Finally\, do not forget that Bishop Hill has three restaurants and a bakery for your eating pleasure. \nThe Dancing Queen concert is free and open to the public\, due to the financial support of the Community State Bank\, Barbro Osher Pro Suecia Foundation\, Minneapolis Foundation\, Illinois Arts Council\, and the Bishop Hill Heritage Association.  Golf carts will available to move people to the park.  Please bring lawn chairs and enjoy this Las Vegas type show!  For more information about this wonderful musical performance\, please check out www.visitbishophill.com
URL:https://superhits935.com/event/dancing-queen-an-abba-salute-is-performing-in-bishop-hill/
END:VEVENT
BEGIN:VEVENT
DTSTART;TZID=America/Chicago:20250712T170000
DTEND;TZID=America/Chicago:20250712T190000
DTSTAMP:20260421T035705
CREATED:20250629T191713Z
LAST-MODIFIED:20250629T191713Z
UID:8258-1752339600-1752346800@superhits935.com
SUMMARY:The Coyote LIVE at Byronfest with Byron Bank
DESCRIPTION:The Coyote LIVE at Byronfest with Byron Bank! 5-7pm.
URL:https://superhits935.com/event/the-coyote-live-at-byronfest-with-byron-bank/
END:VEVENT
BEGIN:VEVENT
DTSTART;TZID=America/Chicago:20250713T163000
DTEND;TZID=America/Chicago:20250713T183000
DTSTAMP:20260421T035705
CREATED:20250618T115201Z
LAST-MODIFIED:20250618T115201Z
UID:7738-1752424200-1752431400@superhits935.com
SUMMARY:Puppy Pals Live Dixon Historic
DESCRIPTION:Puppy Pals Live is coming to the Dixon Historic Theatre on July 13th! This Action-Packed Comedic Stunt Dog Show is a hilarious presentation for the whole family and the dog lover in all of us. These spectacle stars are mostly rescued dogs\, going from shelters to showbiz and now these pooches will be in Dixon to perform spectacular stunts and breathtaking feats. These su-PAW-stars will melt your heart and blow you away all at once. This is not only a show but a family FUN experience for children of all ages. Tickets available at Dixontheatre.com.
URL:https://superhits935.com/event/puppy-pals-live-dixon-historic/
END:VEVENT
BEGIN:VEVENT
DTSTART;TZID=America/Chicago:20250717T100000
DTEND;TZID=America/Chicago:20250717T140000
DTSTAMP:20260421T035705
CREATED:20250706T184145Z
LAST-MODIFIED:20250706T184145Z
UID:8595-1752746400-1752760800@superhits935.com
SUMMARY:DeKalb Farmers’ Market
DESCRIPTION:This summer the DeKalb Farmers’ Market is celebrating 30 years of supporting local farmers and artisans! Presented by Northwestern Medicine\, the market runs every Thursday from 10am to 2pm in Van Buer Plaza in Downtown DeKalb. Shop everything homegrown and homemade from farm-fresh produce and fresh-cut flowers to baked treats and handcrafted goods. Grab lunch from a local food truck and enjoy live music from the Egyptian Theatre’s Live Lunch Music Series. And don’t miss our Link Match program—get up to $25 in free produce when you use your Link card! Support local this summer at the DeKalb Farmers’ Market proudly supported by Triple A Roofing and Gavin Wilson with Country Financial.
URL:https://superhits935.com/event/dekalb-farmers-market-3/
END:VEVENT
BEGIN:VEVENT
DTSTART;TZID=America/Chicago:20250717T130000
DTEND;TZID=America/Chicago:20250720T233000
DTSTAMP:20260421T035705
CREATED:20250706T183917Z
LAST-MODIFIED:20250706T183917Z
UID:8591-1752757200-1753054200@superhits935.com
SUMMARY:Country Thunder Twin Lakes 2025!
DESCRIPTION:Country Thunder Twin Lakes 2025 include – Cole Swindell\, HARDY\, Jelly Roll & Dierks Bentley! Also Ashley McBryde \,Gavin Adcock\, Tyler Hubbard\, Zach Top\, Sara Evans\, Ashley Cooke\, Owen Riegling\, Drew Baldridge\, Shenandoah\, Chayce Beckham\, Nolan Sotillo\, Braxton Keith\, Bayker Blankenship\, Abby Anderson\, Angie K and one more to be announced in the new year. July 17th-20th\, passes on sale now at CountryThunder.com \nPLUS YOUR chance to win courtesy of\, MVP Sports Bar and Sycamore\, Josh Messenger Country Financial along with Ralfie’s BBQ and Catering and The 302 in downtown Rochelle with YOUR Station for Country Thunder 102.3 The Coyote!
URL:https://superhits935.com/event/country-thunder-twin-lakes-2025/
END:VEVENT
BEGIN:VEVENT
DTSTART;TZID=America/Chicago:20250717T190000
DTEND;TZID=America/Chicago:20250717T220000
DTSTAMP:20260421T035705
CREATED:20250706T184019Z
LAST-MODIFIED:20250706T184019Z
UID:8593-1752778800-1752789600@superhits935.com
SUMMARY:Randy Houser LIVE at Marshall Putnam Fair
DESCRIPTION:The Coyote helps to welcome Randy Houser to this years Marshall Putnam Fair in Henry IL\, July 17th.  For tickets and more go to Marshall Putnam Fair .org
URL:https://superhits935.com/event/randy-houser-live-at-marshall-putnam-fair/
END:VEVENT
BEGIN:VEVENT
DTSTART;TZID=America/Chicago:20250718T170000
DTEND;TZID=America/Chicago:20250718T200000
DTSTAMP:20260421T035705
CREATED:20250706T184432Z
LAST-MODIFIED:20250706T184432Z
UID:8601-1752858000-1752868800@superhits935.com
SUMMARY:Ashton Cruise In
DESCRIPTION:Bring your classic car\, truck\, motorcycle or tractor! Free to enter. Downtown will be blocked off with businesses open\, DJ Doug Ball\, 50/50 raffle and more!
URL:https://superhits935.com/event/ashton-cruise-in/
END:VEVENT
BEGIN:VEVENT
DTSTART;TZID=America/Chicago:20250718T190000
DTEND;TZID=America/Chicago:20250718T210000
DTSTAMP:20260421T035705
CREATED:20250706T184333Z
LAST-MODIFIED:20250706T184333Z
UID:8599-1752865200-1752872400@superhits935.com
SUMMARY:Mt. Morris Jamboree – Grass Attack!
DESCRIPTION:Mt. Morris Jamboree – Grass Attack! 7pm FREE to attend
URL:https://superhits935.com/event/mt-morris-jamboree-grass-attack/
END:VEVENT
BEGIN:VEVENT
DTSTART;TZID=America/Chicago:20250718T190000
DTEND;TZID=America/Chicago:20250718T220000
DTSTAMP:20260421T035705
CREATED:20250706T184234Z
LAST-MODIFIED:20250706T184234Z
UID:8597-1752865200-1752876000@superhits935.com
SUMMARY:Tyler Hubbard LIVE at The Rust Belt
DESCRIPTION:Tyler Hubbard will be making a stop at The Rust Belt in East Moline July 18th. All ages show\, doors open at 7pm. Tickets on sale now at the rust belt qc.com
URL:https://superhits935.com/event/tyler-hubbard-live-at-the-rust-belt/
END:VEVENT
BEGIN:VEVENT
DTSTART;TZID=America/Chicago:20250719T090000
DTEND;TZID=America/Chicago:20250719T140000
DTSTAMP:20260421T035705
CREATED:20250618T113806Z
LAST-MODIFIED:20250618T113806Z
UID:7725-1752915600-1752933600@superhits935.com
SUMMARY:Hidden Timber Gardens’ 7th Annual Bloomfest
DESCRIPTION:Daylily lovers\, don’t miss Hidden Timber Gardens’ 7th Annual Bloomfest Saturday July 19th. Stroll through vibrant blooms\, pick your favorites\, and they will hand-dig them just for you! Whether you’re a collector or a hobby gardener\, there’s something for everyone! New this year: Hidden Timber is offering hand-dug hostas from their gardens! Also Renowned artists Katie Daisy and Karen Eland will be painting a live mural throughout the weekend. Stop by to watch them in action and browse their stunning artwork. Bloomfest Saturday July 19th from 9am till 2pm at Hidden Timber Gardens \, 462 S Chana Rd\, Chana.
URL:https://superhits935.com/event/hidden-timber-gardens-7th-annual-bloomfest/
END:VEVENT
BEGIN:VEVENT
DTSTART;TZID=America/Chicago:20250719T150000
DTEND;TZID=America/Chicago:20250719T230000
DTSTAMP:20260421T035705
CREATED:20250630T154303Z
LAST-MODIFIED:20250630T154303Z
UID:8327-1752937200-1752966000@superhits935.com
SUMMARY:Silver Fox Tavern Anniversary Celebration!
DESCRIPTION:Silver Fox Tavern is shutting the street down and bringing a big bash to Main St in Ashton to celebrate their first year of business\, Saturday July 19th!  Don’t miss out on the Mechanical Bull starting at 4\, Outlaws & Angels Band at 5\, then The Killer B’s from 8 till Midnight\, PLUS Cash Grab Machine with chance to win up to $500\, 50/50 Raffle and Giveaways all day from 3pm-11pm with the Coyote LIVE! It’s Silver Fox Tavern’s 1 year anniversary celebration Saturday July 19th!
URL:https://superhits935.com/event/silver-fox-tavern-anniversary-celebration/
END:VEVENT
BEGIN:VEVENT
DTSTART;TZID=America/Chicago:20250719T193000
DTEND;TZID=America/Chicago:20250719T220000
DTSTAMP:20260421T035705
CREATED:20250618T115317Z
LAST-MODIFIED:20250618T115317Z
UID:7740-1752953400-1752962400@superhits935.com
SUMMARY:The 4 C Notes - Frankie Valli and the Four Seasons Tribute Dixon Theatre
DESCRIPTION:THE FOUR C NOTES\, the Midwest’s ONLY tribute recreating the iconic sounds of Frankie Valli and The Four Seasons\, is hitting the stage at The Dixon Historic Theatre on July 16th! Features everyone’s favorite hits: “Sherry\,” “Big Girls Don’t Cry\,” “Walk Like A Man\,” “Can’t Take My Eyes Off Of You\,” “Workin’ My way Back To You (Babe)\,” “Let’s Hang On\,” “Oh\, What A Night (December 1963)” and many\, many more! THE FOUR C NOTES give an authenticity to their performance that similar tribute groups simply cannot match… ANYWHERE! Don’t miss your chance to hear them perform all those 50s and 60s classics LIVE at the Dixon Historic Theatre. Tickets available at Dixontheatre.com
URL:https://superhits935.com/event/the-4-c-notes-frankie-valli-and-the-four-seasons-tribute-dixon-theatre/
END:VEVENT
BEGIN:VEVENT
DTSTART;TZID=America/Chicago:20250722T173000
DTEND;TZID=America/Chicago:20250722T190000
DTSTAMP:20260421T035705
CREATED:20250713T194459Z
LAST-MODIFIED:20250713T194459Z
UID:8988-1753205400-1753210800@superhits935.com
SUMMARY:Cruise Nights & Food Truck at Shane Huber State Farm
DESCRIPTION:Cruise Nights & Food Truck at Shane Huber State Farm 5:30-7:30pm
URL:https://superhits935.com/event/cruise-nights-food-truck-at-shane-huber-state-farm/
END:VEVENT
BEGIN:VEVENT
DTSTART;TZID=America/Chicago:20250724T080000
DTEND;TZID=America/Chicago:20250727T210000
DTSTAMP:20260421T035705
CREATED:20250708T150038Z
LAST-MODIFIED:20250708T150038Z
UID:8744-1753344000-1753650000@superhits935.com
SUMMARY:Lee County Fair & 4-H Show
DESCRIPTION:THURSDAY\, JULY 24\n8-11 a.m. Check-in (4-H & Jr. Show General Projects and Open Show) Auditorium\n9 a.m. 4-H Rabbit Judging Rabbit Barn\n9-11 a.m. Swine Weigh-In\n10 a.m. All livestock must be in place\nGates Open to Public\n11 a.m. 4-H Goat Judging Show Barn\n11 a.m.-12 p.m. Vet available to stamp health papers Fair Office\n11:30 a.m. Open Show Judging begins Auditorium\n4-H Foods & Nutrition Judging Commercial Building\nJr. Show Crops Judging Commercial Building\n12:30 p.m. 4-H Crops Judging Commercial Building\n4-H Floriculture / Horticulture Judging Commercial Building\n1 p.m. Jr. Show Rabbit Judging Rabbit Barn\n2 p.m. Jr. Show Goat Judging Show Barn\n(Thursday Continued)\n3 p.m. Cat Judging Auditorium\n4 p.m. Midway (Farm House Bounce) Open Midway\n5:30 p.m. NEW: Get Creative w/ TMG Designs Vendor Tent\n6 p.m. Tractor/Truck Pull with Back Road Pullers\, Inc. Track\nNEW: Farmer Games Show Barn \nFRIDAY\, JULY 25\n8 a.m. Gate Open to Public\n9 a.m. Swine Judging Show Barn\n4-H Visual Arts Judging Commercial Building\n4-H Photography & Communication Judging Auditorium\n10 a.m. 4-H Clothing & Interior Design Judging Auditorium\n4-H Animal & Vet Science Judging Auditorium\n11 a.m. Kids’ Korner Entertainment Tent\nMidway (Farm House Bounce) Open Midway\n1 p.m. Petting Zoo Open Midway\nPoultry Judging Poultry Barn\n2 p.m. Dairy Judging Show Barn\nKids’ Korner Entertainment Tent\n4 p.m. Pony Rides Open Midway\nMagic by Cory Auditorium\n4-8 p.m. Rustic Ridge Axe Throwing Midway\n5 p.m. Awards Ceremony and Ambassador Announcement Auditorium\nFarm Scene Contest Set-up Commercial Building\n5:30 p.m. Quality Meats & Baked Goods Auction Auditorium\n6 p.m. Lee Co. Fair & Illini State Pullers Tractor/Truck Pull Track\n7 p.m. Pin Dodge Ball Show Barn \nSATURDAY\, JULY 26\n8 a.m. Gate Open to Public\n7 a.m. Pancake Breakfast by Teen Turf Patio\n8 a.m. Horse Performance & Halter Judging Arena\nJr. Show Mechanical Sciences Judging Commercial Building\n9 a.m. Sheep Judging Show Barn\nJr. Show Woodworking Judging Commercial Building\nJr. Show Visual Arts Judging Commercial Building\n4-H Environmental Sciences Judging Commercial Building\n4-H Global Civic Engagement\, Career & Leadership Judging Auditorium\n4-H STEM: Mechanical Sciences Judging Commercial Building\n4-H Woodworking Judging Commercial Building\n10 a.m. Beef Show Show Barn\nFarm Scene Contest Open Commercial Building\n10 a.m. Cloverbud Judging -See department page for club times Auditorium\n11 a.m. Kids’ Korner Entertainment Tent\nMidway Open Midway\n12-8 p.m. Rustic Ridge Axe Throwing Midway\n(Saturday Continued)\n1 p.m. Petting Zoo Open Midway\n2 p.m. Kids’ Korner (mud pies) Entertainment Tent\n4 p.m. Pony Rides Open Midway\nBingo Entertainment Tent\n5 p.m. Cloverbud Graduation & Awards Ceremony Auditorium\n5-7 p.m. Steak Sandwiches by Lee Co. Farm Bureau Young Leaders Food Stand\n6 p.m. Master Showmanship Contest Show Barn\n7 p.m. Rodeo with T & A Bucking Bulls Track \nSUNDAY\, JULY 27\n7 a.m. Gate Open\n8 a.m. Horse Novelty Classes Arena\nShooting Sports w/ Rock River Chapter of NWTF\n9-11 a.m. Culinary Creations Cook-off TBD\n10 a.m.-2 p.m. Marketplace Vendor Fair\n10:30 a.m. Pedal Pull Registration Begins Show Barn\n11 a.m. Petting Zoo\, Pony Rides\, Axe Throwing & Midway Open Midway\nPedal Pull Begins Show Barn\n1 p.m. Release Time (Farm Scene ONLY) Commercial Building\n1:45 p.m. Lee County 4-H Member Group Picture Auditorium\n2 p.m. Release Time (4-H & Jr. Show General Projects and Open Show)\n3 p.m. Release Time (4-H & Jr. Show livestock & small animals)
URL:https://superhits935.com/event/lee-county-fair-4-h-show/
END:VEVENT
BEGIN:VEVENT
DTSTART;TZID=America/Chicago:20250724T100000
DTEND;TZID=America/Chicago:20250724T140000
DTSTAMP:20260421T035705
CREATED:20250713T194953Z
LAST-MODIFIED:20250713T194953Z
UID:8992-1753351200-1753365600@superhits935.com
SUMMARY:DeKalb Farmers’ Market
DESCRIPTION:This summer the DeKalb Farmers’ Market is celebrating 30 years of supporting local farmers and artisans! Presented by Northwestern Medicine\, the market runs every Thursday from 10am to 2pm in Van Buer Plaza in Downtown DeKalb. Shop everything homegrown and homemade from farm-fresh produce and fresh-cut flowers to baked treats and handcrafted goods. Grab lunch from a local food truck and enjoy live music from the Egyptian Theatre’s Live Lunch Music Series. And don’t miss our Link Match program—get up to $25 in free produce when you use your Link card! Support local this summer at the DeKalb Farmers’ Market proudly supported by Triple A Roofing and Gavin Wilson with Country Financial.
URL:https://superhits935.com/event/dekalb-farmers-market-4/
END:VEVENT
BEGIN:VEVENT
DTSTART;TZID=America/Chicago:20250724T160000
DTEND;TZID=America/Chicago:20250724T190000
DTSTAMP:20260421T035705
CREATED:20250713T195046Z
LAST-MODIFIED:20250713T195046Z
UID:8994-1753372800-1753383600@superhits935.com
SUMMARY:Stillman Valley’s Farmers Market
DESCRIPTION:Stillman Valley’s Farmers Market \, 4-7pm. Recreational Park on W Washington St.(Behind the Meridian Jr. High)
URL:https://superhits935.com/event/stillman-valleys-farmers-market-2/
END:VEVENT
BEGIN:VEVENT
DTSTART;TZID=America/Chicago:20250725T190000
DTEND;TZID=America/Chicago:20250725T210000
DTSTAMP:20260421T035705
CREATED:20250713T195157Z
LAST-MODIFIED:20250713T195157Z
UID:8996-1753470000-1753477200@superhits935.com
SUMMARY:Wynonna LIVE at Hard Rock Rockford
DESCRIPTION:Don’t miss Wynonna – The Greatest Hits Tour coming to Hard Rock Rockford Friday July 25h! 5 times platinum self-titled album\, 3 times platinum album Tell Me Why – hear all Wynonna’s greatest hits LIVE from “No One Else On Earth\,” “Tell Me Why\,” “She Is His Only Need\,” “Girls With Guitars\,” and “I Saw The Light” and many more! Tickets on sale now at the Hard Rock Rockford and online at casino.hardrock.com/Rockford
URL:https://superhits935.com/event/wynonna-live-at-hard-rock-rockford/
END:VEVENT
BEGIN:VEVENT
DTSTART;TZID=America/Chicago:20250725T190000
DTEND;TZID=America/Chicago:20250725T210000
DTSTAMP:20260421T035705
CREATED:20250713T195258Z
LAST-MODIFIED:20250713T195258Z
UID:8998-1753470000-1753477200@superhits935.com
SUMMARY:Mt. Morris Jamboree – Chicago Tribute Anthology
DESCRIPTION:Mt. Morris Jamboree – Chicago Tribute Anthology! 7pm FREE to attend
URL:https://superhits935.com/event/mt-morris-jamboree-chicago-tribute-anthology/
END:VEVENT
BEGIN:VEVENT
DTSTART;TZID=America/Chicago:20250725T190000
DTEND;TZID=America/Chicago:20250727T210000
DTSTAMP:20260421T035705
CREATED:20250715T120028Z
LAST-MODIFIED:20250715T120028Z
UID:9166-1753470000-1753650000@superhits935.com
SUMMARY:VCCT Presents "Beanstalk! The Play!"
DESCRIPTION:VCCT presents a young person’s production of “Beanstalk! The Play!” A delightful one-act show features a cast of talented kids\, teens\, and adults and will entertain audiences of all ages! This fun family show follows the adventures of Jack\, a young boy with his head in the clouds and his nose in a book of fairytales. When the magic beans Jack trades for the family cow grows into a gigantic beanstalk\, Jack finally gets the chance to have a fairytale adventure of his very own. Then Stick around for a bonus second act where our cast will entertain you while racing the clock to complete “40 Plays in 40 Minutes” Tickets available online at VCCTRochelle.org or at the door. $20 for adults and $10 for kids 12 and under. Beanstalk! The Play!” July 25th\, 26th 27th and August 1st & 2nd  performances at the Lincoln Arts Center 108 S. Main Street Rochelle.
URL:https://superhits935.com/event/vcct-presents-beanstalk-the-play/
END:VEVENT
BEGIN:VEVENT
DTSTART;TZID=America/Chicago:20250726T090000
DTEND;TZID=America/Chicago:20250726T130000
DTSTAMP:20260421T035705
CREATED:20250720T193946Z
LAST-MODIFIED:20250720T193946Z
UID:9411-1753520400-1753534800@superhits935.com
SUMMARY:Rochelle Outdoor Farmers Market at Cypress House
DESCRIPTION:Rochelle Outdoor Farmers Market at Cypress House 9am-1pm
URL:https://superhits935.com/event/rochelle-outdoor-farmers-market-at-cypress-house-2/
END:VEVENT
BEGIN:VEVENT
DTSTART;TZID=America/Chicago:20250729T080000
DTEND;TZID=America/Chicago:20250803T230000
DTSTAMP:20260421T035705
CREATED:20250720T193606Z
LAST-MODIFIED:20250727T202525Z
UID:9405-1753776000-1754262000@superhits935.com
SUMMARY:Mississippi Valley Fair in Davenport
DESCRIPTION:Mississippi Valley Fair in Davenport July 29-August 3rd (Kane Brown 29th & Maddie & Tae and LOCASH 30th and Jon Pardi 8/3) Full schedule at https://mvfair.com/ 
URL:https://superhits935.com/event/mississippi-valley-fair-in-davenport/
END:VEVENT
BEGIN:VEVENT
DTSTART;TZID=America/Chicago:20250730T080000
DTEND;TZID=America/Chicago:20250803T230000
DTSTAMP:20260421T035705
CREATED:20250713T195601Z
LAST-MODIFIED:20250713T195601Z
UID:9000-1753862400-1754262000@superhits935.com
SUMMARY:Ogle County Fair
DESCRIPTION:Get ready for family fun at the 2025 Ogle County Fair\, July 30th through August 3rd!  Admission is only $10 and includes unlimited carnival rides\, yes\, I said unlimited.  Kids 4 and under enter free and can enjoy all the rides for just $5.  Enjoy two free on-ground shows\, nightly live music\, exhibits\, food\, games\, and so much more.  Don’t miss the Tractor Pulls\, Demolition Derby\, and our new rodeo by T&A Bucking Bulls in our grandstands for an extra $15.  Visit OgleCountyFair.com for tickets and the full schedule or find us on Facebook.  Discounted admission tickets are available before the fair begins. \n 
URL:https://superhits935.com/event/ogle-county-fair/
END:VEVENT
BEGIN:VEVENT
DTSTART;TZID=America/Chicago:20250731T080000
DTEND;TZID=America/Chicago:20250803T170000
DTSTAMP:20260421T035705
CREATED:20250722T162927Z
LAST-MODIFIED:20250722T162927Z
UID:9544-1753948800-1754240400@superhits935.com
SUMMARY:Franklin Grove Summer Harvest Festival
DESCRIPTION:The Summer Harvest Festival at Chaplin Creek in Franklin Grove July 31st – August 3rd\, don’t miss the art show\, city wide rummage sales\, living history antique equipment show\, the Big Rig Show\, craft and vendors\, parade and new this year the Northwest Territory Alliance Revolutionary War Encampment\, Old Fashioned Stone Boat Tractor Pull and Fall Paint Crafts. Follow F G Summer Harvest Fest on Facebook for more! The Summer Harvest Festival at Chaplin Creek in Franklin Grove July 31st – August 3rd
URL:https://superhits935.com/event/franklin-grove-summer-harvest-festival/
END:VEVENT
BEGIN:VEVENT
DTSTART;TZID=America/Chicago:20250731T080000
DTEND;TZID=America/Chicago:20250803T220000
DTSTAMP:20260421T035705
CREATED:20250715T115502Z
LAST-MODIFIED:20250715T115502Z
UID:9153-1753948800-1754258400@superhits935.com
SUMMARY:Forreston Sauerkraut Days
DESCRIPTION:Bring on the Kraut and Forreston Sauerkraut Days 2025! July 31st-August 3rd. From the Kids fun run and 5K and the Kraut Dyas 5K\, fireworks at Forreston High School\, Food Trucks\, Beer Garden\, Outdoor Movie featuring Despicable Me 4\, DJ & Karaoke\, car and bike show\, craft and vendors\, Bingo\, Parade\, love music from the Killer B’s Watermelon eating contest\, Lion’s Club Pork Chop dinner\, and don’t miss out on the official American Legion Sauerkraut Lunch\, for the full schedule and more go to krautdays.com Sauerkraut Days is made for making memories together right here\, in Forreston.
URL:https://superhits935.com/event/forreston-sauerkraut-days/
END:VEVENT
BEGIN:VEVENT
DTSTART;TZID=America/Chicago:20250731T100000
DTEND;TZID=America/Chicago:20250731T140000
DTSTAMP:20260421T035705
CREATED:20250720T193827Z
LAST-MODIFIED:20250720T193827Z
UID:9409-1753956000-1753970400@superhits935.com
SUMMARY:DeKalb Farmers’ Market
DESCRIPTION:This summer the DeKalb Farmers’ Market is celebrating 30 years of supporting local farmers and artisans! Presented by Northwestern Medicine\, the market runs every Thursday from 10am to 2pm in Van Buer Plaza in Downtown DeKalb. Shop everything homegrown and homemade from farm-fresh produce and fresh-cut flowers to baked treats and handcrafted goods. Grab lunch from a local food truck and enjoy live music from the Egyptian Theatre’s Live Lunch Music Series. And don’t miss our Link Match program—get up to $25 in free produce when you use your Link card! Support local this summer at the DeKalb Farmers’ Market proudly supported by Triple A Roofing and Gavin Wilson with Country Financial.
URL:https://superhits935.com/event/dekalb-farmers-market-5/
END:VEVENT
BEGIN:VEVENT
DTSTART;TZID=America/Chicago:20250731T190000
DTEND;TZID=America/Chicago:20250731T220000
DTSTAMP:20260421T035705
CREATED:20250720T193714Z
LAST-MODIFIED:20250720T193714Z
UID:9407-1753988400-1753999200@superhits935.com
SUMMARY:NFL Hall of Fame Game
DESCRIPTION:NFL Hall of Fame Game! Live on SuperHits 93.5 pregame starts at 7pm
URL:https://superhits935.com/event/nfl-hall-of-fame-game/
END:VEVENT
BEGIN:VEVENT
DTSTART;TZID=America/Chicago:20250801T190000
DTEND;TZID=America/Chicago:20250801T210000
DTSTAMP:20260421T035705
CREATED:20250720T194037Z
LAST-MODIFIED:20250720T194037Z
UID:9413-1754074800-1754082000@superhits935.com
SUMMARY:Mt. Morris Jamboree – Brass From The Past
DESCRIPTION:Mt. Morris Jamboree – Brass From The Past! 7pm FREE to attend
URL:https://superhits935.com/event/mt-morris-jamboree-brass-from-the-past/
END:VEVENT
BEGIN:VEVENT
DTSTART;TZID=America/Chicago:20250801T190000
DTEND;TZID=America/Chicago:20250802T220000
DTSTAMP:20260421T035705
CREATED:20250727T212010Z
LAST-MODIFIED:20250727T212010Z
UID:9832-1754074800-1754172000@superhits935.com
SUMMARY:VCCT presents “Beanstalk! The Play!”
DESCRIPTION:VCCT presents a young person’s production of “Beanstalk! The Play!” A delightful one-act show features a cast of talented kids\, teens\, and adults and will entertain audiences of all ages! This fun family show follows the adventures of Jack\, a young boy with his head in the clouds and his nose in a book of fairytales. When the magic beans Jack trades for the family cow grows into a gigantic beanstalk\, Jack finally gets the chance to have a fairytale adventure of his very own. Then Stick around for a bonus second act where our cast will entertain you while racing the clock to complete “40 Plays in 40 Minutes” Tickets available online at VCCTRochelle.org or at the door. $20 for adults and $10 for kids 12 and under. Beanstalk! The Play!” July 25th\, 26th 27th and August 1st & 2nd  performances at the Lincoln Arts Center 108 S. Main Street Rochelle.
URL:https://superhits935.com/event/vcct-presents-beanstalk-the-play-2/
END:VEVENT
END:VCALENDAR