BEGIN:VCALENDAR
VERSION:2.0
PRODID:-//Superhits 93.5 - ECPv6.15.20//NONSGML v1.0//EN
CALSCALE:GREGORIAN
METHOD:PUBLISH
X-ORIGINAL-URL:https://superhits935.com
X-WR-CALDESC:Events for Superhits 93.5
REFRESH-INTERVAL;VALUE=DURATION:PT1H
X-Robots-Tag:noindex
X-PUBLISHED-TTL:PT1H
BEGIN:VTIMEZONE
TZID:America/Chicago
BEGIN:DAYLIGHT
TZOFFSETFROM:-0600
TZOFFSETTO:-0500
TZNAME:CDT
DTSTART:20240310T080000
END:DAYLIGHT
BEGIN:STANDARD
TZOFFSETFROM:-0500
TZOFFSETTO:-0600
TZNAME:CST
DTSTART:20241103T070000
END:STANDARD
BEGIN:DAYLIGHT
TZOFFSETFROM:-0600
TZOFFSETTO:-0500
TZNAME:CDT
DTSTART:20250309T080000
END:DAYLIGHT
BEGIN:STANDARD
TZOFFSETFROM:-0500
TZOFFSETTO:-0600
TZNAME:CST
DTSTART:20251102T070000
END:STANDARD
BEGIN:DAYLIGHT
TZOFFSETFROM:-0600
TZOFFSETTO:-0500
TZNAME:CDT
DTSTART:20260308T080000
END:DAYLIGHT
BEGIN:STANDARD
TZOFFSETFROM:-0500
TZOFFSETTO:-0600
TZNAME:CST
DTSTART:20261101T070000
END:STANDARD
END:VTIMEZONE
BEGIN:VEVENT
DTSTART;TZID=America/Chicago:20250510T093000
DTEND;TZID=America/Chicago:20250510T230000
DTSTAMP:20260419T112823
CREATED:20250505T144636Z
LAST-MODIFIED:20250505T144636Z
UID:5704-1746869400-1746918000@superhits935.com
SUMMARY:Genoa Kingston @ Rochelle Lady Hubs Softball LIVE
DESCRIPTION:Genoa Kingston @ Rochelle Lady Hubs\, pregame starts at 9:50am LIVE online at https://superhits935.com/live-high-school-sports/
URL:https://superhits935.com/event/genoa-kingston-rochelle-lady-hubs-softball-live/
END:VEVENT
BEGIN:VEVENT
DTSTART;TZID=America/Chicago:20250511T100000
DTEND;TZID=America/Chicago:20250511T140000
DTSTAMP:20260419T112823
CREATED:20250504T184140Z
LAST-MODIFIED:20250504T184140Z
UID:5691-1746957600-1746972000@superhits935.com
SUMMARY:Mother's Day Buffet at Luna in Rochelle
DESCRIPTION:Come celebrate Mother’s Day at Luna in Rochelle. Complimentary Mimosas for the Moms!Special performance by Neil Woolbright\, who will set a relaxing yet celebratory ambiance for all the Mothers to enjoy. 10am-2pm
URL:https://superhits935.com/event/mothers-day-buffet-at-luna-in-rochelle/
END:VEVENT
BEGIN:VEVENT
DTSTART;TZID=America/Chicago:20250511T110000
DTEND;TZID=America/Chicago:20250511T140000
DTSTAMP:20260419T112823
CREATED:20250427T174505Z
LAST-MODIFIED:20250427T174505Z
UID:5199-1746961200-1746972000@superhits935.com
SUMMARY:Mother’s Day Luncheon with the Oregon Chamber of Commerce
DESCRIPTION:It’s Moms\, Mimosas & Memories – A Mother’s Day Luncheon with the Oregon Chamber of Commerce\, Sunday May 11th from 11am till 2pm at the beautiful Rivers Edge Experience Event Center in Oregon. Celebrate the incredible moms in your life with a delightful afternoon of delicious food\, refreshing mimosas\, and unforgettable memories. Catered by Hazel’s Café\, cash bar\, photo area\, win stunning jewelry\, 50/50 raffle and much more. Don’t miss this wonderful opportunity to spoil Mom with a fabulous meal\, fun activities\, and quality time together!  Reserve your seats today by calling 815-732-2100.
URL:https://superhits935.com/event/mothers-day-luncheon-with-the-oregon-chamber-of-commerce/
END:VEVENT
BEGIN:VEVENT
DTSTART;TZID=America/Chicago:20250513T120000
DTEND;TZID=America/Chicago:20250513T170000
DTSTAMP:20260419T112823
CREATED:20250512T125729Z
LAST-MODIFIED:20250512T125729Z
UID:5842-1747137600-1747155600@superhits935.com
SUMMARY:RRVBC Blood Drive at Pinecrest Grove
DESCRIPTION:RRVBC Blood Drive at Pinecrest Grove in Mount Morris Noon-5pm
URL:https://superhits935.com/event/rrvbc-blood-drive-at-pinecrest-grove/
END:VEVENT
BEGIN:VEVENT
DTSTART;TZID=America/Chicago:20250513T200000
DTEND;TZID=America/Chicago:20250513T220000
DTSTAMP:20260419T112823
CREATED:20250323T172100Z
LAST-MODIFIED:20250323T172100Z
UID:3343-1747166400-1747173600@superhits935.com
SUMMARY:Alice Cooper LIVE at Vibrant Arena in Moline
DESCRIPTION:SuperHits 93.5 helps to welcome Alice Cooper to Vibrant Arena in Moline May 13th\, tickets on sale now at Ticketmaster.com and at the box office.
URL:https://superhits935.com/event/alice-cooper-live-at-vibrant-arena-in-moline/
END:VEVENT
BEGIN:VEVENT
DTSTART;TZID=America/Chicago:20250514T163000
DTEND;TZID=America/Chicago:20250514T190000
DTSTAMP:20260419T112823
CREATED:20250512T125213Z
LAST-MODIFIED:20250512T125213Z
UID:5836-1747240200-1747249200@superhits935.com
SUMMARY:Ottawa @ Rochelle Hubs LIVE
DESCRIPTION:Ottawa @ Rochelle Hubs\, pregame starts at 4:20pm LIVE online at https://superhits935.com/live-high-school-sports/
URL:https://superhits935.com/event/ottawa-rochelle-hubs-live/
END:VEVENT
BEGIN:VEVENT
DTSTART;TZID=America/Chicago:20250516T050000
DTEND;TZID=America/Chicago:20250516T120000
DTSTAMP:20260419T112823
CREATED:20250512T125829Z
LAST-MODIFIED:20250512T125829Z
UID:5844-1747371600-1747396800@superhits935.com
SUMMARY:Cop On A Rooftop at Dunkin
DESCRIPTION:Cop On A Rooftop at Dunkin in Rochelle 5am-Noon for Special Olympics Illinois
URL:https://superhits935.com/event/cop-on-a-rooftop-at-dunkin/
END:VEVENT
BEGIN:VEVENT
DTSTART;TZID=America/Chicago:20250517T093000
DTEND;TZID=America/Chicago:20250517T120000
DTSTAMP:20260419T112823
CREATED:20250512T125315Z
LAST-MODIFIED:20250512T125315Z
UID:5838-1747474200-1747483200@superhits935.com
SUMMARY:Dixon @ Rochelle Hubs DH LIVE
DESCRIPTION:Dixon @ Rochelle Hubs DH\, pregame starts at 9:50am LIVE online at https://superhits935.com/live-high-school-sports/
URL:https://superhits935.com/event/dixon-rochelle-hubs-dh-live/
END:VEVENT
BEGIN:VEVENT
DTSTART;TZID=America/Chicago:20250517T170000
DTEND;TZID=America/Chicago:20250517T210000
DTSTAMP:20260419T112823
CREATED:20250506T151944Z
LAST-MODIFIED:20250514T231114Z
UID:5731-1747501200-1747515600@superhits935.com
SUMMARY:Let’s Get Lit Market Downtown Rochelle
DESCRIPTION:Hosted by The Artists’ Garden\, Acres Bistro and Scalehouse Lounge\, don’t miss the Let’s Get Lit Market May 17th from 5-9pm in downtown Rochelle\, an exciting night market that will feature amazing vendors\, delicious food\, an art walk\, live music\, and more! Come out for a fun-filled evening of shopping\, dining\, and entertainment. Bring your friends and family to support local artists and enjoy the vibrant spring night vibes. All ages welcome and free to attend. Lets Get Lit Spring Night Market May 17th from 5-9pm in downtown Rochelle.
URL:https://superhits935.com/event/lets-get-lit-market-downtown-rochelle/
END:VEVENT
BEGIN:VEVENT
DTSTART;TZID=America/Chicago:20250520T163000
DTEND;TZID=America/Chicago:20250520T190000
DTSTAMP:20260419T112823
CREATED:20250512T125402Z
LAST-MODIFIED:20250512T125402Z
UID:5840-1747758600-1747767600@superhits935.com
SUMMARY:Dixon @ Rochelle Lady Hubs LIVE
DESCRIPTION:Dixon @ Rochelle Lady Hubs\, pregame starts at 4:20pm LIVE online at https://superhits935.com/live-high-school-sports/
URL:https://superhits935.com/event/dixon-rochelle-lady-hubs-live/
END:VEVENT
BEGIN:VEVENT
DTSTART;TZID=America/Chicago:20250522T190000
DTEND;TZID=America/Chicago:20250522T210000
DTSTAMP:20260419T112823
CREATED:20250512T130055Z
LAST-MODIFIED:20250512T130055Z
UID:5847-1747940400-1747947600@superhits935.com
SUMMARY:Byronfest Idol 2nd Round at Neon Tiger in Byron
DESCRIPTION:Byronfest Idol 2nd Round at Neon Tiger in Byron\, 7pm. FREE to participate. Bring your voice\, your vibe\, and your fans! Visit byronfest.org/idol for dates & locations.
URL:https://superhits935.com/event/byronfest-idol-2nd-round-at-neon-tiger-in-byron/
END:VEVENT
BEGIN:VEVENT
DTSTART;TZID=America/Chicago:20250523T163000
DTEND;TZID=America/Chicago:20250523T190000
DTSTAMP:20260419T112823
CREATED:20250519T120147Z
LAST-MODIFIED:20250519T120147Z
UID:6022-1748017800-1748026800@superhits935.com
SUMMARY:DeKalb @ Rochelle Hubs Baseball LIVE
DESCRIPTION:DeKalb @ Rochelle Hubs\, pregame starts at 4:20pm LIVE online at https://superhits935.com/live-high-school-sports/
URL:https://superhits935.com/event/dekalb-rochelle-hubs-baseball-live/
END:VEVENT
BEGIN:VEVENT
DTSTART;TZID=America/Chicago:20250524T180000
DTEND;TZID=America/Chicago:20250524T230000
DTSTAMP:20260419T112823
CREATED:20250506T151859Z
LAST-MODIFIED:20250506T151859Z
UID:5729-1748109600-1748127600@superhits935.com
SUMMARY:1 Year Anniversary of Denim & Diamonds Saloon in Sycamore
DESCRIPTION:Celebrate the 1 year anniversary of Denim & Diamonds Saloon in Sycamore Saturday May 24th! With the band Whiskey Road from 8-11pm playing Country & Classic Rock\, 102.3 The Coyote will also be there live starting at 6pm. PLUS free cake and cookies to celebrate. Table reservations are available now by going to Eventbrite. Celebrate the 1 year anniversary of Denim & Diamonds Saloon in Sycamore Saturday May 24th the areas only tri-level entertainment venue\, live music\, line dancing\, pool\, darts and more! 425 West State Street in downtown Sycamore!
URL:https://superhits935.com/event/1-year-anniversary-of-denim-diamonds-saloon-in-sycamore/
END:VEVENT
BEGIN:VEVENT
DTSTART;TZID=America/Chicago:20250526T163000
DTEND;TZID=America/Chicago:20250526T190000
DTSTAMP:20260419T112823
CREATED:20250519T120302Z
LAST-MODIFIED:20250519T120302Z
UID:6026-1748277000-1748286000@superhits935.com
SUMMARY:Belvidere @ Rochelle Hubs Baseball LIVE
DESCRIPTION:Belvidere @ Rochelle Hubs\, pregame starts at 4:20pm LIVE online at https://superhits935.com/live-high-school-sports/
URL:https://superhits935.com/event/belvidere-rochelle-hubs-baseball-live/
END:VEVENT
BEGIN:VEVENT
DTSTART;TZID=America/Chicago:20250527T163000
DTEND;TZID=America/Chicago:20250527T190000
DTSTAMP:20260419T112823
CREATED:20250519T120605Z
LAST-MODIFIED:20250519T120605Z
UID:6032-1748363400-1748372400@superhits935.com
SUMMARY:Rochelle Lady Hubs vs Sterling Softball LIVE
DESCRIPTION:Rochelle Lady Hubs vs Sterling\, pregame starts at 4:20pm LIVE online at https://superhits935.com/live-high-school-sports/
URL:https://superhits935.com/event/rochelle-lady-hubs-vs-sterling-softball-live/
END:VEVENT
BEGIN:VEVENT
DTSTART;TZID=America/Chicago:20250528T100000
DTEND;TZID=America/Chicago:20250531T220000
DTSTAMP:20260419T112823
CREATED:20250525T174334Z
LAST-MODIFIED:20250525T174334Z
UID:6404-1748426400-1748728800@superhits935.com
SUMMARY:Genoa Days!
DESCRIPTION:The Genoa Kingston Fire and Rescue proudly presents\, the 89th Genoa Days May 28th – May 31st! Don’t’ miss skinners amusements and nightly entertainment\, with $30 ride wristbands Thursday and Saturday. Great music from NRG Wednesday\, The Beaux Thursday\, Sound Check Friday and Country Line & Project Nostalgia Band Saturday\, plus food\, games and more! It’s Genoa Days May 28th – May 31st! Don’t’ miss it!
URL:https://superhits935.com/event/genoa-days/
END:VEVENT
BEGIN:VEVENT
DTSTART;TZID=America/Chicago:20250528T163000
DTEND;TZID=America/Chicago:20250528T190000
DTSTAMP:20260419T112823
CREATED:20250519T120724Z
LAST-MODIFIED:20250519T120724Z
UID:6036-1748449800-1748458800@superhits935.com
SUMMARY:Rochelle Hubs vs Burlington Baseball LIVE
DESCRIPTION:Rochelle Hubs vs Burlington\, pregame starts at 4:20pm LIVE online at https://superhits935.com/live-high-school-sports/
URL:https://superhits935.com/event/rochelle-hubs-vs-burlington-baseball-live/
END:VEVENT
BEGIN:VEVENT
DTSTART;TZID=America/Chicago:20250531T100000
DTEND;TZID=America/Chicago:20250531T170000
DTSTAMP:20260419T112823
CREATED:20250525T174451Z
LAST-MODIFIED:20250525T174451Z
UID:6406-1748685600-1748710800@superhits935.com
SUMMARY:Doodle Folk Music Festival
DESCRIPTION:On Saturday May 31\, 2025\, start your summer by enjoying the Doodle Folk Music Festival. Located in the village park in Bishop Hill Illinois\, some of the best-known Illinois folk musicians\, such as Chris Vallillo\, the Bucktown Americana Music Show\, and more will be performing. Doodle was Bishop Hill’s first folk musician. A display about Doodle (Jonas Danielson) will be located in the park gazebo. All the park concerts are free and open to the public. Bring lawn chairs and enjoy the music!
URL:https://superhits935.com/event/doodle-folk-music-festival/
END:VEVENT
BEGIN:VEVENT
DTSTART;TZID=America/Chicago:20250531T100000
DTEND;TZID=America/Chicago:20250601T170000
DTSTAMP:20260419T112823
CREATED:20250525T174550Z
LAST-MODIFIED:20250525T174550Z
UID:6408-1748685600-1748797200@superhits935.com
SUMMARY:Railroad Days in Rochelle
DESCRIPTION:Railroad Days returns in Rochelle for 2 days\, May 31st from 10am till 5pm and June 1st 11am till 3pm a the Ken Wise Railroad Park in Rochelle. Something for the whole family\, including hot dogs & brats by the Rochelle Golden K Club\, bounce houses\, music\, a princess visit American Legion Display and more! Meet your friends to enjoy a day of trainspotting. Railroad Days in Rochelle May 31st and June 1st.
URL:https://superhits935.com/event/railroad-days-in-rochelle/
END:VEVENT
BEGIN:VEVENT
DTSTART;TZID=America/Chicago:20250531T190000
DTEND;TZID=America/Chicago:20250531T220000
DTSTAMP:20260419T112823
CREATED:20250512T130232Z
LAST-MODIFIED:20250512T130232Z
UID:5849-1748718000-1748728800@superhits935.com
SUMMARY:Jo Dee Messina LIVE at the Coronado Theatre
DESCRIPTION:Jo Dee Messina is a trailblazing country music artist\, known for her powerful vocals and chart-topping hits. With the breakout song ‘Heads Carolina\, Tails California\,’ she became a household name and went on to achieve nine No. 1 hits and sixteen Top 40 songs. Jo Dee’s success made her the first female in country music history to celebrate three consecutive multi-week\, chart-topping songs. Alyssa Flaherty will be supporting Jo Dee.
URL:https://superhits935.com/event/jo-dee-messina-live-at-the-coronado-theatre/
END:VEVENT
BEGIN:VEVENT
DTSTART;TZID=America/Chicago:20250604T120000
DTEND;TZID=America/Chicago:20250604T180000
DTSTAMP:20260419T112823
CREATED:20250512T185425Z
LAST-MODIFIED:20250512T185425Z
UID:5851-1749038400-1749060000@superhits935.com
SUMMARY:SOS Blood Drive
DESCRIPTION:It only take a few minutes to save a life\, we are asking for your help during this summer’s SOS Blood Drive\, Wednesday June 4th from Noon-6pm at Holcomb Bank in Rochelle. Holcomb bank will again be providing a food voucher for one free item from a food truck for all donors\, including Headon’s and Roeil Scoop. Set your time to donate now by going to RRVBC.org  walk-in are also welcome. The SOS Blood Drive\, Wednesday June 4th from Noon-6pm at Holcomb Bank in Rochelle.
URL:https://superhits935.com/event/sos-blood-drive/
END:VEVENT
BEGIN:VEVENT
DTSTART;TZID=America/Chicago:20250605T100000
DTEND;TZID=America/Chicago:20250605T140000
DTSTAMP:20260419T112823
CREATED:20250601T195041Z
LAST-MODIFIED:20250601T200307Z
UID:6736-1749117600-1749132000@superhits935.com
SUMMARY:DeKalb Farmers’ Market Starts for the Season
DESCRIPTION:This summer the DeKalb Farmers’ Market is celebrating 30 years of supporting local farmers and artisans! Presented by Northwestern Medicine\, the market runs every Thursday from 10am to 2pm in Van Buer Plaza in Downtown DeKalb. Shop everything homegrown and homemade from farm-fresh produce and fresh-cut flowers to baked treats and handcrafted goods. Grab lunch from a local food truck and enjoy live music from the Egyptian Theatre’s Live Lunch Music Series. And don’t miss our Link Match program—get up to $25 in free produce when you use your Link card! Support local this summer at the DeKalb Farmers’ Market proudly supported by Triple A Roofing and Gavin Wilson with Country Financial.
URL:https://superhits935.com/event/dekalb-farmers-market-starts-for-the-season/
END:VEVENT
BEGIN:VEVENT
DTSTART;TZID=America/Chicago:20250605T190000
DTEND;TZID=America/Chicago:20250605T210000
DTSTAMP:20260419T112823
CREATED:20250525T174802Z
LAST-MODIFIED:20250525T174802Z
UID:6410-1749150000-1749157200@superhits935.com
SUMMARY:Byronfest Idol 3rd Round at The Cave
DESCRIPTION:Get ready for the most exciting\, high-energy singing showdown of the summer — ByronFest IDOL is BACK! \n\n\n\nROUND 3 at The Cave in Byron\, Each week\, brave vocalists will take the stage in “karaoke-style” competition. Sign up is first come\, first served starting at 6:40 PM — showtime starts at 7:00 PM sharp! FREE to participate. Bring your voice\, your vibe\, and your fans! Each week\, our judges will send TWO contestants straight to the next round — plus choose a WILD CARD who just might make it to the Semi-Finals!Then it all leads to:  Semi-Finals @ Uptown Lanes Finals on the ByronFest Byron Lions Club Stage – July 12!Cash prizes up for grabs:  $300 |  $200 |  $100Think you’ve got what it takes to be the next ByronFest Idol? Visit byronfest.org/idol for dates & locations
URL:https://superhits935.com/event/byronfest-idol-3rd-round-at-the-cave/
END:VEVENT
BEGIN:VEVENT
DTSTART;TZID=America/Chicago:20250607T120000
DTEND;TZID=America/Chicago:20250607T220000
DTSTAMP:20260419T112823
CREATED:20250517T181004Z
LAST-MODIFIED:20250517T181004Z
UID:5967-1749297600-1749333600@superhits935.com
SUMMARY:14th Annual Forreston FFA Alumni Tractor and Truck Pull
DESCRIPTION:The 14th Annual Forreston FFA Alumni Tractor and Truck Pull is coming up on June 7th! Please make plans to attend this annual event that has become a community favorite for the whole family. The pull begins at 12 noon with antique tractors\, followed by farm stock tractors at 2 pm\, MTTPA trucks at 4 pm\, and finally MTTPA and ISP Trucks and Tractors at 7 pm! Admission is $15 for an all day wrist band\, kids 5 years old and younger are free! All proceeds go to the Forreston FFA Alumni which supports the Forreston FFA Chapter by way of general funding and scholarships. The Alumni wants to say thanks to everyone who has attended the pull in the past and hopes to see you again on June 7th in Leaf River behind the River Valley Complex. Also a big thanks to all our sponsors including: Bocker Ruff Grain\, Compeer Financial\, Heels and Hardhats Contracting\, Helm\, M2 Service Company\, Merit Crane Rental\, Johnson Tractor\, Buckshot Ridge Farms and Excavating LLC\, Dekalb Implement\, Forreston Mutual Insurance Company\, M.A.D. Acres\, and Peabudy’s North.
URL:https://superhits935.com/event/14th-annual-forreston-ffa-alumni-tractor-and-truck-pull/
END:VEVENT
BEGIN:VEVENT
DTSTART;TZID=America/Chicago:20250607T193000
DTEND;TZID=America/Chicago:20250607T220000
DTSTAMP:20260419T112823
CREATED:20250525T174950Z
LAST-MODIFIED:20250525T174950Z
UID:6412-1749324600-1749333600@superhits935.com
SUMMARY:Breakfast in America - Supertramp Tribute
DESCRIPTION:From their atmospheric art rock roots to the power pop anthems that defined a generation\, Breakfast in America celebrates the music of ‘70s supergroup Supertramp in an epic rock concert tribute. Featuring the group’s biggest hits from Hodgson and Davies like Goodbye Stranger\, Give a Little Bit\, The Logical Song\, Take the Long Way Home and Bloody Well Right alongside deeper-cut gems like Crime of the Century\, Fool’s Overture and more. Tickets on sale now at https://dixontheatre.com/
URL:https://superhits935.com/event/breakfast-in-america-supertramp-tribute/
END:VEVENT
BEGIN:VEVENT
DTSTART;TZID=America/Chicago:20250611T170000
DTEND;TZID=America/Chicago:20250611T190000
DTSTAMP:20260419T112823
CREATED:20250601T195222Z
LAST-MODIFIED:20250601T195222Z
UID:6738-1749661200-1749668400@superhits935.com
SUMMARY:The Coyote LIVE at PrairieFire Golf & Grill
DESCRIPTION:Join 102.3 The Coyote LIVE at PrairieFire Golf & Grill in Byron from 5-7pm! Stop by for some great food and golf plus chances to win!
URL:https://superhits935.com/event/the-coyote-live-at-prairiefire-golf-grill/
END:VEVENT
BEGIN:VEVENT
DTSTART;TZID=America/Chicago:20250612T120000
DTEND;TZID=America/Chicago:20250612T170000
DTSTAMP:20260419T112823
CREATED:20250601T195414Z
LAST-MODIFIED:20250601T195414Z
UID:6740-1749729600-1749747600@superhits935.com
SUMMARY:Rochelle Chamber Golf Play Day
DESCRIPTION:Come and join us for one of the premier Play Days in Northern IL! Our presenting sponsor Burlington Junction Railway has chosen the theme of “Golf Films” for 2025! Channel your inner Caddy Shack\, Tin Cup\, or Happy Gilmore (or your favorite golf movie) and join us to network while promoting your business or organization. Such a great day with a packed course and over 30 hole sponsors. Registration and Lunch (sponsored by City of Rochelle) start at 10:30 with shotgun start at noon! Reach out to sponsor or to register your foursome
URL:https://superhits935.com/event/rochelle-chamber-golf-play-day/
END:VEVENT
BEGIN:VEVENT
DTSTART;TZID=America/Chicago:20250612T160000
DTEND;TZID=America/Chicago:20250612T190000
DTSTAMP:20260419T112823
CREATED:20250610T184451Z
LAST-MODIFIED:20250610T184451Z
UID:7326-1749744000-1749754800@superhits935.com
SUMMARY:Stillman Valley Farmers Market
DESCRIPTION:Stillman Valley farmers market will be held on the 2ND and 4TH Thusday’s of each month through September from 4 to 7pm. They will be held at the recreational park on West Washington Street- behind the Meridian Junior High School. They will have fresh good\, homemade items\, food\, music\, family fun and more. For more information\, find them on Facebook at Stillman Valley’s Farmers Market.
URL:https://superhits935.com/event/stillman-valley-farmers-market/
END:VEVENT
BEGIN:VEVENT
DTSTART;TZID=America/Chicago:20250613T190000
DTEND;TZID=America/Chicago:20250613T210000
DTSTAMP:20260419T112823
CREATED:20250601T195731Z
LAST-MODIFIED:20250601T195731Z
UID:6742-1749841200-1749848400@superhits935.com
SUMMARY:Rick Lindy LIVE Mt. Morris Jamboree!
DESCRIPTION:Rick Lindy LIVE 7-9 p.m. on the Mt. Morris campus. There are some handicap accessible permanent benches and lots of green space for lawn chairs. Arrive early to get a good spot and sample the food scene\, visit the art gallery or museum on campus\, and shop the sidewalk vendors. The concerts are free\, although donations are welcome.
URL:https://superhits935.com/event/rick-lindy-live-mt-morris-jamboree/
END:VEVENT
BEGIN:VEVENT
DTSTART;TZID=America/Chicago:20250613T193000
DTEND;TZID=America/Chicago:20250613T220000
DTSTAMP:20260419T112823
CREATED:20250606T154947Z
LAST-MODIFIED:20250606T154947Z
UID:7099-1749843000-1749852000@superhits935.com
SUMMARY:Dixon Historic Theatre: The Gordon Lightfoot Tribute
DESCRIPTION:On June 13th at the Dixon Historic Theatre: The Gordon Lightfoot Tribute captures the timeless magic of Lightfoot’s legendary folk and storytelling music\, bringing his iconic songs to life with authenticity and passion. From classics like If You Could Read My Mind and The Wreck of the Edmund Fitzgerald to deep cuts cherished by longtime admirers\, their setlist spans Lightfoot’s remarkable career. Tickets and more information available at dixontheatre.com
URL:https://superhits935.com/event/dixon-historic-theatre-the-gordon-lightfoot-tribute/
END:VEVENT
END:VCALENDAR