BEGIN:VCALENDAR
VERSION:2.0
PRODID:-//Superhits 93.5 - ECPv6.15.20//NONSGML v1.0//EN
CALSCALE:GREGORIAN
METHOD:PUBLISH
X-WR-CALNAME:Superhits 93.5
X-ORIGINAL-URL:https://superhits935.com
X-WR-CALDESC:Events for Superhits 93.5
REFRESH-INTERVAL;VALUE=DURATION:PT1H
X-Robots-Tag:noindex
X-PUBLISHED-TTL:PT1H
BEGIN:VTIMEZONE
TZID:America/Chicago
BEGIN:DAYLIGHT
TZOFFSETFROM:-0600
TZOFFSETTO:-0500
TZNAME:CDT
DTSTART:20240310T080000
END:DAYLIGHT
BEGIN:STANDARD
TZOFFSETFROM:-0500
TZOFFSETTO:-0600
TZNAME:CST
DTSTART:20241103T070000
END:STANDARD
BEGIN:DAYLIGHT
TZOFFSETFROM:-0600
TZOFFSETTO:-0500
TZNAME:CDT
DTSTART:20250309T080000
END:DAYLIGHT
BEGIN:STANDARD
TZOFFSETFROM:-0500
TZOFFSETTO:-0600
TZNAME:CST
DTSTART:20251102T070000
END:STANDARD
BEGIN:DAYLIGHT
TZOFFSETFROM:-0600
TZOFFSETTO:-0500
TZNAME:CDT
DTSTART:20260308T080000
END:DAYLIGHT
BEGIN:STANDARD
TZOFFSETFROM:-0500
TZOFFSETTO:-0600
TZNAME:CST
DTSTART:20261101T070000
END:STANDARD
END:VTIMEZONE
BEGIN:VEVENT
DTSTART;TZID=America/Chicago:20250516T050000
DTEND;TZID=America/Chicago:20250516T120000
DTSTAMP:20260423T040219
CREATED:20250512T125829Z
LAST-MODIFIED:20250512T125829Z
UID:5844-1747371600-1747396800@superhits935.com
SUMMARY:Cop On A Rooftop at Dunkin
DESCRIPTION:Cop On A Rooftop at Dunkin in Rochelle 5am-Noon for Special Olympics Illinois
URL:https://superhits935.com/event/cop-on-a-rooftop-at-dunkin/
END:VEVENT
BEGIN:VEVENT
DTSTART;TZID=America/Chicago:20250514T163000
DTEND;TZID=America/Chicago:20250514T190000
DTSTAMP:20260423T040219
CREATED:20250512T125213Z
LAST-MODIFIED:20250512T125213Z
UID:5836-1747240200-1747249200@superhits935.com
SUMMARY:Ottawa @ Rochelle Hubs LIVE
DESCRIPTION:Ottawa @ Rochelle Hubs\, pregame starts at 4:20pm LIVE online at https://superhits935.com/live-high-school-sports/
URL:https://superhits935.com/event/ottawa-rochelle-hubs-live/
END:VEVENT
BEGIN:VEVENT
DTSTART;TZID=America/Chicago:20250513T200000
DTEND;TZID=America/Chicago:20250513T220000
DTSTAMP:20260423T040219
CREATED:20250323T172100Z
LAST-MODIFIED:20250323T172100Z
UID:3343-1747166400-1747173600@superhits935.com
SUMMARY:Alice Cooper LIVE at Vibrant Arena in Moline
DESCRIPTION:SuperHits 93.5 helps to welcome Alice Cooper to Vibrant Arena in Moline May 13th\, tickets on sale now at Ticketmaster.com and at the box office.
URL:https://superhits935.com/event/alice-cooper-live-at-vibrant-arena-in-moline/
END:VEVENT
BEGIN:VEVENT
DTSTART;TZID=America/Chicago:20250513T120000
DTEND;TZID=America/Chicago:20250513T170000
DTSTAMP:20260423T040219
CREATED:20250512T125729Z
LAST-MODIFIED:20250512T125729Z
UID:5842-1747137600-1747155600@superhits935.com
SUMMARY:RRVBC Blood Drive at Pinecrest Grove
DESCRIPTION:RRVBC Blood Drive at Pinecrest Grove in Mount Morris Noon-5pm
URL:https://superhits935.com/event/rrvbc-blood-drive-at-pinecrest-grove/
END:VEVENT
BEGIN:VEVENT
DTSTART;TZID=America/Chicago:20250511T110000
DTEND;TZID=America/Chicago:20250511T140000
DTSTAMP:20260423T040219
CREATED:20250427T174505Z
LAST-MODIFIED:20250427T174505Z
UID:5199-1746961200-1746972000@superhits935.com
SUMMARY:Mother’s Day Luncheon with the Oregon Chamber of Commerce
DESCRIPTION:It’s Moms\, Mimosas & Memories – A Mother’s Day Luncheon with the Oregon Chamber of Commerce\, Sunday May 11th from 11am till 2pm at the beautiful Rivers Edge Experience Event Center in Oregon. Celebrate the incredible moms in your life with a delightful afternoon of delicious food\, refreshing mimosas\, and unforgettable memories. Catered by Hazel’s Café\, cash bar\, photo area\, win stunning jewelry\, 50/50 raffle and much more. Don’t miss this wonderful opportunity to spoil Mom with a fabulous meal\, fun activities\, and quality time together!  Reserve your seats today by calling 815-732-2100.
URL:https://superhits935.com/event/mothers-day-luncheon-with-the-oregon-chamber-of-commerce/
END:VEVENT
BEGIN:VEVENT
DTSTART;TZID=America/Chicago:20250511T100000
DTEND;TZID=America/Chicago:20250511T140000
DTSTAMP:20260423T040219
CREATED:20250504T184140Z
LAST-MODIFIED:20250504T184140Z
UID:5691-1746957600-1746972000@superhits935.com
SUMMARY:Mother's Day Buffet at Luna in Rochelle
DESCRIPTION:Come celebrate Mother’s Day at Luna in Rochelle. Complimentary Mimosas for the Moms!Special performance by Neil Woolbright\, who will set a relaxing yet celebratory ambiance for all the Mothers to enjoy. 10am-2pm
URL:https://superhits935.com/event/mothers-day-buffet-at-luna-in-rochelle/
END:VEVENT
BEGIN:VEVENT
DTSTART;TZID=America/Chicago:20250510T093000
DTEND;TZID=America/Chicago:20250510T230000
DTSTAMP:20260423T040219
CREATED:20250505T144636Z
LAST-MODIFIED:20250505T144636Z
UID:5704-1746869400-1746918000@superhits935.com
SUMMARY:Genoa Kingston @ Rochelle Lady Hubs Softball LIVE
DESCRIPTION:Genoa Kingston @ Rochelle Lady Hubs\, pregame starts at 9:50am LIVE online at https://superhits935.com/live-high-school-sports/
URL:https://superhits935.com/event/genoa-kingston-rochelle-lady-hubs-softball-live/
END:VEVENT
BEGIN:VEVENT
DTSTART;TZID=America/Chicago:20250510T090000
DTEND;TZID=America/Chicago:20250510T160000
DTSTAMP:20260423T040219
CREATED:20250421T213235Z
LAST-MODIFIED:20250421T213235Z
UID:4900-1746867600-1746892800@superhits935.com
SUMMARY:Kickin it for a Cause Kickball Tournament
DESCRIPTION:Come on out and have a “Kickin good time” at the 5th annual Kickin it for a Cause Kickball Tournament. It’s A Fun Filled Day supporting The Rochelle Chamber Scholarship Program and The Park Districts Engage Program. The event will have food trucks and a beer garden! Cheer on the teams while having some great food and drinks. The 5th annual Kickin it for a Cause presented by Ralfie’s BBQ and Catering\, Saturday May 10th starting at 9am at VFW Park in Rochelle.
URL:https://superhits935.com/event/kickin-it-for-a-cause-kickball-tournament/
END:VEVENT
BEGIN:VEVENT
DTSTART;TZID=America/Chicago:20250510T090000
DTEND;TZID=America/Chicago:20250510T150000
DTSTAMP:20260423T040219
CREATED:20250421T214658Z
LAST-MODIFIED:20250421T214658Z
UID:4904-1746867600-1746889200@superhits935.com
SUMMARY:Lincoln Highway Car Show
DESCRIPTION:The 13th annual Lincoln Highway Car Show will be held Saturday May 10th in Franklin Grove from 9am till 3pm. Including 6 classes\, awarding 3 trophies per class with cars and trucks from the 1900s up to today. Get in on the 50/50 drawing\, music by 3-D sound plus vendor booths and more! For more information call 815-456-2695. The 13th annual Lincoln Highway Car Show Saturday May 10th in Franklin Grove from 9am till 3pm. All proceeds go to local charities and fundraising projects.
URL:https://superhits935.com/event/lincoln-highway-car-show/
END:VEVENT
BEGIN:VEVENT
DTSTART;TZID=America/Chicago:20250508T190000
DTEND;TZID=America/Chicago:20250508T210000
DTSTAMP:20260423T040219
CREATED:20250504T184347Z
LAST-MODIFIED:20250504T184347Z
UID:5693-1746730800-1746738000@superhits935.com
SUMMARY:Byronfest Idol 1st Round at Legacy Bar and Gaming
DESCRIPTION:Get ready for the most exciting\, high-energy singing showdown of the summer — ByronFest IDOL is BACK!  ROUND 1 kicks off next week Legacy Bar and Gaming! Each week\, brave vocalists will take the stage in “karaoke-style” competition. Sign up is first come\, first served starting at 6:40 PM — showtime starts at 7:00 PM sharp! FREE to participate. Bring your voice\, your vibe\, and your fans! Each week\, our judges will send TWO contestants straight to the next round — plus choose a WILD CARD who just might make it to the Semi-Finals!Then it all leads to:  Semi-Finals @ Uptown Lanes Finals on the ByronFest Byron Lions Club Stage – July 12!Cash prizes up for grabs:  $300 |  $200 |  $100Think you’ve got what it takes to be the next ByronFest Idol? Visit byronfest.org/idol for dates & locations
URL:https://superhits935.com/event/byronfest-idol-1st-round-at-legacy-bar-and-gaming/
END:VEVENT
BEGIN:VEVENT
DTSTART;TZID=America/Chicago:20250508T120000
DTEND;TZID=America/Chicago:20250508T180000
DTSTAMP:20260423T040219
CREATED:20250504T183916Z
LAST-MODIFIED:20250504T183916Z
UID:5689-1746705600-1746727200@superhits935.com
SUMMARY:Blood Drive Rochelle Community Hospital
DESCRIPTION:Blood Drive Rochelle Community Hospital Noon–6pm www.rrvbc.org
URL:https://superhits935.com/event/blood-drive-rochelle-community-hospital/
END:VEVENT
BEGIN:VEVENT
DTSTART;TZID=America/Chicago:20250507T163000
DTEND;TZID=America/Chicago:20250507T190000
DTSTAMP:20260423T040219
CREATED:20250428T152710Z
LAST-MODIFIED:20250428T152710Z
UID:5264-1746635400-1746644400@superhits935.com
SUMMARY:Morris @ Rochelle Lady Hubs LIVE
DESCRIPTION:Morris @ Rochelle Lady Hubs\, pregame starts at 4:20pm LIVE online at https://superhits935.com/live-high-school-sports/
URL:https://superhits935.com/event/morris-rochelle-lady-hubs-live/
END:VEVENT
BEGIN:VEVENT
DTSTART;TZID=America/Chicago:20250506T163000
DTEND;TZID=America/Chicago:20250506T190000
DTSTAMP:20260423T040219
CREATED:20250428T152519Z
LAST-MODIFIED:20250428T152620Z
UID:5262-1746549000-1746558000@superhits935.com
SUMMARY:LaSalle Peru @ Rochelle Hubs LIVE
DESCRIPTION:LaSalle Peru @ Rochelle Hubs\, pregame starts at 4:20pm LIVE online at https://superhits935.com/live-high-school-sports/
URL:https://superhits935.com/event/lasalle-peru-rochelle-hubs-live-2/
END:VEVENT
BEGIN:VEVENT
DTSTART;TZID=America/Chicago:20250505T163000
DTEND;TZID=America/Chicago:20250505T190000
DTSTAMP:20260423T040219
CREATED:20250428T152416Z
LAST-MODIFIED:20250428T152416Z
UID:5260-1746462600-1746471600@superhits935.com
SUMMARY:LaSalle Peru @ Rochelle Hubs LIVE
DESCRIPTION:LaSalle Peru @ Rochelle Hubs\, pregame starts at 4:20pm LIVE online at https://superhits935.com/live-high-school-sports/
URL:https://superhits935.com/event/lasalle-peru-rochelle-hubs-live/
END:VEVENT
BEGIN:VEVENT
DTSTART;TZID=America/Chicago:20250505T123000
DTEND;TZID=America/Chicago:20250505T173000
DTSTAMP:20260423T040219
CREATED:20250504T183819Z
LAST-MODIFIED:20250504T183819Z
UID:5687-1746448200-1746466200@superhits935.com
SUMMARY:Blood Drive Leaf River United Methodist Church
DESCRIPTION:Blood Drive Leaf River United Methodist Church 12:30pm-5:30pm www.rrvbc.org
URL:https://superhits935.com/event/blood-drive-leaf-river-united-methodist-church/
END:VEVENT
BEGIN:VEVENT
DTSTART;TZID=America/Chicago:20250505T100000
DTEND;TZID=America/Chicago:20250505T150000
DTSTAMP:20260423T040219
CREATED:20250504T183725Z
LAST-MODIFIED:20250504T183725Z
UID:5685-1746439200-1746457200@superhits935.com
SUMMARY:Blood Drive at Rock River Center in Oregon
DESCRIPTION:Blood Drive at Rock River Center in Oregon 10am-3pm www.rrvbc.org
URL:https://superhits935.com/event/blood-drive-at-rock-river-center-in-oregon/
END:VEVENT
BEGIN:VEVENT
DTSTART;TZID=America/Chicago:20250504T090000
DTEND;TZID=America/Chicago:20250504T150000
DTSTAMP:20260423T040219
CREATED:20250420T181411Z
LAST-MODIFIED:20250427T174033Z
UID:4814-1746349200-1746370800@superhits935.com
SUMMARY:Crafty Farmer’s Open Air Market at Hy-Vee
DESCRIPTION:The 2025 outdoor market season officially opens on Sunday\, May 4th\, and will be held every other Sunday until the final market day on October 5th at Hy Vee in Sycamore! The Crafty Farmer’s Open Air Market. features a diverse array of crafters\, producers\, farmers\, and food trucks\, offering something for everyone to enjoy. Admission to the market is completely free. Hosted by Hy-Vee\, the market invites you to extend your visit by exploring the store for additional shopping after experiencing the outdoor offerings. Don’t’ miss the first outdoor market of the season Sunday May 4th at Hy Vee in Sycamore from 9am-3pm. PLUS The Coyote will be there LIVE from 10am-Noon.
URL:https://superhits935.com/event/crafty-farmers-open-air-market-at-hy-vee/
END:VEVENT
BEGIN:VEVENT
DTSTART;TZID=America/Chicago:20250503T150000
DTEND;TZID=America/Chicago:20250503T230000
DTSTAMP:20260423T040219
CREATED:20250421T214104Z
LAST-MODIFIED:20250421T214104Z
UID:4902-1746284400-1746313200@superhits935.com
SUMMARY:Celebrate Cinco De Mayo in Rochelle!
DESCRIPTION:Celebrate Cinco De Mayo in Rochelle Saturday May 3rd from 3-11pm in the parking lot of the REC Center in Rochelle. Fun activities for the whole family including dog races\, bounce houses\, mechanical bull\, craft and vendors\, great food\, drinks and SO much more! It’s Rochelle Cinco De Mayo Festival Saturday May 3rd from 3-11pm in the parking lot of the REC Center in Rochelle\, Free to attend!
URL:https://superhits935.com/event/celebrate-cinco-de-mayo-in-rochelle/
END:VEVENT
BEGIN:VEVENT
DTSTART;TZID=America/Chicago:20250501T000000
DTEND;TZID=America/Chicago:20250501T233000
DTSTAMP:20260423T040219
CREATED:20250420T181632Z
LAST-MODIFIED:20250420T181632Z
UID:4818-1746057600-1746142200@superhits935.com
SUMMARY:Give DeKalb County 2025
DESCRIPTION:YOU can make a difference during Give DeKalb County on May 1\, 2025! This annual fundraising event celebrates 12 years of generosity in 2025 and features multiple ways to support nonprofit organizations. Plus\, the Bonus Pool boosts every donation made. \nFrom midnight to midnight on May 1\, visit GiveDeKalbCounty.org to unleash your generosity. Whether searching for a specific organization\, browsing by cause\, or supporting multiple nonprofits\, it’s all at your fingertips. \nDonors who prefer to give by check can print a mail-in donation form from the website\, indicate the organization(s) and donation amount(s)\, then write a single check for the total amount payable to “DCCF.” Mail the check and completed donation form to the DeKalb County Community Foundation\, 475 DeKalb Avenue\, Sycamore\, IL 60178 – postmarked April 17 – May 1. Donations from Individual Retirement Accounts (IRA) follow the mail-in guidelines. \nHosted by the DeKalb County Nonprofit Partnership\, a program of the Community Foundation\, the past 11 giving days accumulated over $10.7 million. Follow the excitement on Facebook and Instagram\, mark your calendar\, and be part of this extraordinary giving event! \n 
URL:https://superhits935.com/event/give-dekalb-county-2025/
END:VEVENT
BEGIN:VEVENT
DTSTART;TZID=America/Chicago:20250430T163000
DTEND;TZID=America/Chicago:20250430T190000
DTSTAMP:20260423T040219
CREATED:20250428T152857Z
LAST-MODIFIED:20250428T152857Z
UID:5267-1746030600-1746039600@superhits935.com
SUMMARY:Morris @ Rochelle Hubs LIVE
DESCRIPTION:Morris @ Rochelle Hubs\, pregame starts at 4:20pm LIVE online at https://superhits935.com/live-high-school-sports/
URL:https://superhits935.com/event/morris-rochelle-hubs-live/
END:VEVENT
BEGIN:VEVENT
DTSTART;TZID=America/Chicago:20250428T163000
DTEND;TZID=America/Chicago:20250428T190000
DTSTAMP:20260423T040219
CREATED:20250421T125723Z
LAST-MODIFIED:20250421T125723Z
UID:4872-1745857800-1745866800@superhits935.com
SUMMARY:Ottawa at Rochelle Lady Hubs Softball LIVE
DESCRIPTION:Ottawa at Rochelle Lady Hubs Softball\, pregame starts at 4:20pm LIVE online at https://superhits935.com/live-high-school-sports/
URL:https://superhits935.com/event/ottawa-at-rochelle-lady-hubs-softball-live/
END:VEVENT
BEGIN:VEVENT
DTSTART;TZID=America/Chicago:20250426T120000
DTEND;TZID=America/Chicago:20250426T150000
DTSTAMP:20260423T040219
CREATED:20250420T181506Z
LAST-MODIFIED:20250420T181506Z
UID:4816-1745668800-1745679600@superhits935.com
SUMMARY:Hy-Vee’s Wedding Expo
DESCRIPTION:Plan your dream wedding effortlessly at Hy-Vee in Sycamore\, Saturday April 26th from Noon-3pm during Hy-Vee’s Wedding Expo. Discover premium services from Hy-Vee bakery\, catering\, floral and wine & spirits along with various other vendors such as limo services\, photographers\, makeup artist and more. Simplify your planning and make your dream celebration reality at Hy-Vee’s wedding expo Saturday April 26th from Noon-3pm 2700 DeKalb Ave Sycamore\, Hy-Vee where there’s a helpful smile in every isle.
URL:https://superhits935.com/event/hy-vees-wedding-expo/
END:VEVENT
BEGIN:VEVENT
DTSTART;TZID=America/Chicago:20250426T110000
DTEND;TZID=America/Chicago:20250426T140000
DTSTAMP:20260423T040219
CREATED:20250421T125109Z
LAST-MODIFIED:20250421T125109Z
UID:4864-1745665200-1745676000@superhits935.com
SUMMARY:CAN food truck fair downtown Rochelle
DESCRIPTION:Don’t’ miss out on the CAN food truck fair\, in downtown Rochelle Saturday\, April 26th from 11 am to 2 pm. In the parking lot south of the museum on 6th Street. Great food from \n\nRalfie’s BBQ\nLittle O’s Frozen Treats\nCousins Maine Lobster\nAnd\nEl Pastor Tacos\n\nThe Community Action Network in Rochelle is a local organization dedicated to providing support and resources to the community. Stop by for some great food while supporting a great cause.
URL:https://superhits935.com/event/can-food-truck-fair-downtown-rochelle/
END:VEVENT
BEGIN:VEVENT
DTSTART;TZID=America/Chicago:20250425T163000
DTEND;TZID=America/Chicago:20250425T190000
DTSTAMP:20260423T040219
CREATED:20250421T125350Z
LAST-MODIFIED:20250421T125350Z
UID:4870-1745598600-1745607600@superhits935.com
SUMMARY:Rockford Lutheran at Rochelle Lady Hubs Softball LIVE
DESCRIPTION:Rockford Lutheran at Rochelle Lady Hubs Softball\, pregame starts at 4:20pm LIVE online at https://superhits935.com/live-high-school-sports/
URL:https://superhits935.com/event/rockford-lutheran-at-rochelle-lady-hubs-softball-live/
END:VEVENT
BEGIN:VEVENT
DTSTART;TZID=America/Chicago:20250424T163000
DTEND;TZID=America/Chicago:20250424T190000
DTSTAMP:20260423T040219
CREATED:20250421T125237Z
LAST-MODIFIED:20250421T125237Z
UID:4868-1745512200-1745521200@superhits935.com
SUMMARY:Kaneland at Rochelle Hubs Baseball LIVE
DESCRIPTION:Kaneland at Rochelle Hubs Baseball\, pregame starts at 4:20pm LIVE online at https://superhits935.com/live-high-school-sports/
URL:https://superhits935.com/event/kaneland-at-rochelle-hubs-baseball-live-2/
END:VEVENT
BEGIN:VEVENT
DTSTART;TZID=America/Chicago:20250424T160000
DTEND;TZID=America/Chicago:20250424T190000
DTSTAMP:20260423T040219
CREATED:20250330T181314Z
LAST-MODIFIED:20250330T181314Z
UID:3696-1745510400-1745521200@superhits935.com
SUMMARY:DeKalb Chamber of Commerce Local Showcase & Spring Show
DESCRIPTION:Spring is in the air — and so is the excitement at the FREE Local Showcase & Spring Show presented by XCEL Orthopedics! \nJoin the DeKalb Chamber of Commerce and over 100 vendors on Thursday\, April 24th at the NIU Convocation Center from 4 to 7 PM for a one-of-a-kind community event! \nDiscover local businesses\, experience live demos\, explore interactive displays\, and find out who’s hiring — there’s something for everyone! \nThe Local Showcase & Spring Show is made possible thanks to generous support from local sponsors including 102.3 The Coyote\, AAA Roofing Contractors\, Credit Union 1\, Meta\, FNBO\, Northwestern Medicine\, and the Daily Chronicle. \nMark your calendar for April 24th — we can’t wait to see you there!
URL:https://superhits935.com/event/dekalb-chamber-of-commerce-local-showcase-spring-show/
END:VEVENT
BEGIN:VEVENT
DTSTART;TZID=America/Chicago:20250424T160000
DTEND;TZID=America/Chicago:20250424T190000
DTSTAMP:20260423T040219
CREATED:20250303T222057Z
LAST-MODIFIED:20250303T222057Z
UID:2136-1745510400-1745521200@superhits935.com
SUMMARY:Hy-Vee in Sycamore for Steak Night for a Cause!
DESCRIPTION:Mark your calendars! Join Hy Vee in Sycamore for Steak Night for a Cause on Thursday\, April 24th from 4-7PM! For every meal purchased\, Hy-Vee will donate $1 to First Lutheran Church which will benefit\, Hope Haven\, Safe Passage\, Salvation Army\, and LOVE\, Inc.  Each dinner includes a Chef’s Choice grilled steak\, garlic mashed potatoes\, and a fresh vegetable for only $10! Stop by for a delicious dinner and help support a great cause! At your Local Hy Vee in Sycamore\, where there’s a helpful smile in every isle.
URL:https://superhits935.com/event/hy-vee-in-sycamore-for-steak-night-for-a-cause/
END:VEVENT
BEGIN:VEVENT
DTSTART;TZID=America/Chicago:20250421T163000
DTEND;TZID=America/Chicago:20250421T190000
DTSTAMP:20260423T040219
CREATED:20250414T144827Z
LAST-MODIFIED:20250414T144827Z
UID:4528-1745253000-1745262000@superhits935.com
SUMMARY:Kaneland at Rochelle Hubs Baseball LIVE
DESCRIPTION:Kaneland at Rochelle Hubs Baseball\, pregame starts at 4:20pm LIVE online at https://superhits935.com/live-high-school-sports/
URL:https://superhits935.com/event/kaneland-at-rochelle-hubs-baseball-live/
END:VEVENT
BEGIN:VEVENT
DTSTART;TZID=America/Chicago:20250419T200000
DTEND;TZID=America/Chicago:20250419T220000
DTSTAMP:20260423T040219
CREATED:20250413T180432Z
LAST-MODIFIED:20250413T180432Z
UID:4463-1745092800-1745100000@superhits935.com
SUMMARY:Tigirlily Gold Featuring Emily Elgin at Rhythm City
DESCRIPTION:Tigirlily Gold\nSister duo Tigirlily Gold has been playing music together since they could walk\, and officially formed their band in high school. Growing up\, they crisscrossed the Midwest\, growing a fierce fan base and playing amphitheaters across their home-state of North Dakota. After moving to Nashville\, they landed a weekly residence at Dierks Bentley’s Whiskey Row on Nashville’s famed lower Broadway. Playing four-hour sets\, three to four nights a week\, the sisters developed a performance style that’s not only captivating and fun but shows just how entertaining is in their blood. Tickets on sale now at https://www.rhythmcitycasino.com/
URL:https://superhits935.com/event/tigirlily-gold-featuring-emily-elgin-at-rhythm-city/
END:VEVENT
BEGIN:VEVENT
DTSTART;TZID=America/Chicago:20250419T200000
DTEND;TZID=America/Chicago:20250419T220000
DTSTAMP:20260423T040219
CREATED:20250323T171749Z
LAST-MODIFIED:20250323T171749Z
UID:3337-1745092800-1745100000@superhits935.com
SUMMARY:Jon Anderson & The Band of Geeks at the Coronado
DESCRIPTION:Don’t miss Jon Anderson & The Band of Geeks at the Coronado in Rockford April 19th at 8pm. Tickets on sale now at all the box office and all Ticketmaster Location or call 815-968-5222 with SuperHits 93.5!
URL:https://superhits935.com/event/jon-anderson-the-band-of-geeks-at-the-coronado/
END:VEVENT
END:VCALENDAR