BEGIN:VCALENDAR
VERSION:2.0
PRODID:-//Superhits 93.5 - ECPv6.15.20//NONSGML v1.0//EN
CALSCALE:GREGORIAN
METHOD:PUBLISH
X-WR-CALNAME:Superhits 93.5
X-ORIGINAL-URL:https://superhits935.com
X-WR-CALDESC:Events for Superhits 93.5
REFRESH-INTERVAL;VALUE=DURATION:PT1H
X-Robots-Tag:noindex
X-PUBLISHED-TTL:PT1H
BEGIN:VTIMEZONE
TZID:America/Chicago
BEGIN:DAYLIGHT
TZOFFSETFROM:-0600
TZOFFSETTO:-0500
TZNAME:CDT
DTSTART:20240310T080000
END:DAYLIGHT
BEGIN:STANDARD
TZOFFSETFROM:-0500
TZOFFSETTO:-0600
TZNAME:CST
DTSTART:20241103T070000
END:STANDARD
BEGIN:DAYLIGHT
TZOFFSETFROM:-0600
TZOFFSETTO:-0500
TZNAME:CDT
DTSTART:20250309T080000
END:DAYLIGHT
BEGIN:STANDARD
TZOFFSETFROM:-0500
TZOFFSETTO:-0600
TZNAME:CST
DTSTART:20251102T070000
END:STANDARD
BEGIN:DAYLIGHT
TZOFFSETFROM:-0600
TZOFFSETTO:-0500
TZNAME:CDT
DTSTART:20260308T080000
END:DAYLIGHT
BEGIN:STANDARD
TZOFFSETFROM:-0500
TZOFFSETTO:-0600
TZNAME:CST
DTSTART:20261101T070000
END:STANDARD
END:VTIMEZONE
BEGIN:VEVENT
DTSTART;TZID=America/Chicago:20250930T120000
DTEND;TZID=America/Chicago:20250930T170000
DTSTAMP:20260421T120807
CREATED:20250928T173306Z
LAST-MODIFIED:20250928T173306Z
UID:13520-1759233600-1759251600@superhits935.com
SUMMARY:Blood Drive at Oregon Church of God
DESCRIPTION:RRVBC Blood Drive at Oregon Church of God 12-5pm
URL:https://superhits935.com/event/blood-drive-at-oregon-church-of-god/
END:VEVENT
BEGIN:VEVENT
DTSTART;TZID=America/Chicago:20250929T180000
DTEND;TZID=America/Chicago:20250929T220000
DTSTAMP:20260421T120807
CREATED:20250920T014238Z
LAST-MODIFIED:20250920T014238Z
UID:13017-1759168800-1759183200@superhits935.com
SUMMARY:NFL Football Cincinnati @ Denver on SuperHits 93.5
DESCRIPTION:NFL Football Cincinnati @ Denver 6pm on SuperHits 93.5
URL:https://superhits935.com/event/nfl-football-cincinnati-denver-on-superhits-93-5/
END:VEVENT
BEGIN:VEVENT
DTSTART;TZID=America/Chicago:20250928T183000
DTEND;TZID=America/Chicago:20250928T220000
DTSTAMP:20260421T120807
CREATED:20250914T181729Z
LAST-MODIFIED:20250914T181729Z
UID:12563-1759084200-1759096800@superhits935.com
SUMMARY:NFL Football Green Bay @ Dallas on SuperHits 93.5
DESCRIPTION:NFL Football Green Bay @ Dallas 6:30pm on SuperHits 93.5
URL:https://superhits935.com/event/nfl-football-green-bay-dallas-on-superhits-93-5/
END:VEVENT
BEGIN:VEVENT
DTSTART;TZID=America/Chicago:20250928T120000
DTEND;TZID=America/Chicago:20250928T160000
DTSTAMP:20260421T120807
CREATED:20250920T014152Z
LAST-MODIFIED:20250920T014152Z
UID:13015-1759060800-1759075200@superhits935.com
SUMMARY:Ashton Annual Fall Festival
DESCRIPTION:The Village of Ashton invites you to attend the Annual Fall Festival! Free to attend\, Sunday September 28th from Noon till 4pm! The festivities will be held on Main Street in downtown Ashton and there will lots of food\, fun and games available for all ages. Plus all the shops and busses will be open\, welcome in fall in Ashton Sunday September 28th from Noon till 4pm at this years Ashton Fall Festival!
URL:https://superhits935.com/event/ashton-annual-fall-festival/
END:VEVENT
BEGIN:VEVENT
DTSTART;TZID=America/Chicago:20250927T200000
DTEND;TZID=America/Chicago:20250927T213000
DTSTAMP:20260421T120807
CREATED:20250819T160221Z
LAST-MODIFIED:20250819T160221Z
UID:11032-1759003200-1759008600@superhits935.com
SUMMARY:Blackberry Smoke is coming to Rhythm City Casino
DESCRIPTION:Blackberry Smoke is coming to Rhythm City Casino to perform in the Event Center on Saturday\, September 27\, 2025 at 8 PM! Tickets will be available online at rhythmcitycasino.com or at The Market at Rhythm City.
URL:https://superhits935.com/event/blackberry-smoke-is-coming-to-rhythm-city-casino/
END:VEVENT
BEGIN:VEVENT
DTSTART;TZID=America/Chicago:20250927T193000
DTEND;TZID=America/Chicago:20250927T210000
DTSTAMP:20260421T120807
CREATED:20250914T181358Z
LAST-MODIFIED:20250914T181358Z
UID:12555-1759001400-1759006800@superhits935.com
SUMMARY:Boys In The Band at the Dixon Historic Theatre
DESCRIPTION:Boys In The Band at the Dixon Historic Theatre 7:30pm for tickets go to https://dixontheatre.com/
URL:https://superhits935.com/event/boys-in-the-band-at-the-dixon-historic-theatre/
END:VEVENT
BEGIN:VEVENT
DTSTART;TZID=America/Chicago:20250927T180000
DTEND;TZID=America/Chicago:20250927T230000
DTSTAMP:20260421T120807
CREATED:20250914T181559Z
LAST-MODIFIED:20250914T181559Z
UID:12559-1758996000-1759014000@superhits935.com
SUMMARY:NCAA Football Alabama @ Georgia on SuperHits 93.5
DESCRIPTION:NCAA Football Alabama @ Georgia 6pm on SuperHits 93.5
URL:https://superhits935.com/event/ncaa-football-alabama-georgia-on-superhits-93-5/
END:VEVENT
BEGIN:VEVENT
DTSTART;TZID=America/Chicago:20250927T143000
DTEND;TZID=America/Chicago:20250927T180000
DTSTAMP:20260421T120807
CREATED:20250914T181638Z
LAST-MODIFIED:20250914T181638Z
UID:12561-1758983400-1758996000@superhits935.com
SUMMARY:NIU Huskies Football at Home against San Diego State
DESCRIPTION:NIU Huskies Football at Home against San Diego State (TBA Time)
URL:https://superhits935.com/event/niu-huskies-football-at-home-against-san-diego-state/
END:VEVENT
BEGIN:VEVENT
DTSTART;TZID=America/Chicago:20250927T100000
DTEND;TZID=America/Chicago:20250927T160000
DTSTAMP:20260421T120807
CREATED:20250902T160701Z
LAST-MODIFIED:20250902T160701Z
UID:11872-1758967200-1758988800@superhits935.com
SUMMARY:Bishop Hill’s annual Jordbruksdagarna
DESCRIPTION:Travel back in time and experience Bishop Hill’s annual Jordbruksdagarna Saturday September 27 and Sunday September 28 from 10 a.m. to 4 p.m. FREE family FUN for all ages!  Enjoy 19th century demonstrations of pioneer trades\, harvest activities\, folk music\, Nordic dances\, food\, children’s activities\, vendors\, and much more. For more information about this harvest festival\, view visitbishophill.com.
URL:https://superhits935.com/event/bishop-hills-annual-jordbruksdagarna/
END:VEVENT
BEGIN:VEVENT
DTSTART;TZID=America/Chicago:20250927T100000
DTEND;TZID=America/Chicago:20250927T120000
DTSTAMP:20260421T120807
CREATED:20250914T181455Z
LAST-MODIFIED:20250914T181455Z
UID:12557-1758967200-1758974400@superhits935.com
SUMMARY:The Coyote LIVE at Berry View Orchard apart of the Back Roads Market
DESCRIPTION:The Coyote LIVE at Berry View Orchard 10am-Noon apart of the Back Roads Market in Mt. Morris
URL:https://superhits935.com/event/the-coyote-live-at-berry-view-orchard-apart-of-the-back-roads-market/
END:VEVENT
BEGIN:VEVENT
DTSTART;TZID=America/Chicago:20250927T090000
DTEND;TZID=America/Chicago:20250927T130000
DTSTAMP:20260421T120807
CREATED:20250923T121049Z
LAST-MODIFIED:20250923T121049Z
UID:13209-1758963600-1758978000@superhits935.com
SUMMARY:Rochelle Outdoor Farmers Market at Cypress House
DESCRIPTION:Rochelle Outdoor Farmers Market at Cypress House 9am-1pm
URL:https://superhits935.com/event/rochelle-outdoor-farmers-market-at-cypress-house-4/
END:VEVENT
BEGIN:VEVENT
DTSTART;TZID=America/Chicago:20250927T080000
DTEND;TZID=America/Chicago:20250928T170000
DTSTAMP:20260421T120807
CREATED:20250914T182321Z
LAST-MODIFIED:20250914T182321Z
UID:12570-1758960000-1759078800@superhits935.com
SUMMARY:Stillman Valley Fall Festival
DESCRIPTION:Celebrate fall at Stillman Valley Fall Festival presented by Stillman Bank\, September 27th and 28th! enjoy a wonderful\, entertaining few days in Stillman Valley. The Fall festival offers a variety of things to do. Enjoy shopping at the Indoor Craft Show\, see the Car Show\, Tractor Show\, or Horticulture Show. Watch a parade\, and eat great some food and listen to live music. What more could you want? FREE to attend\, no charge for entry. For this years full schedule and more go to Stillman Valley Fall Festival.com
URL:https://superhits935.com/event/stillman-valley-fall-festival/
END:VEVENT
BEGIN:VEVENT
DTSTART;TZID=America/Chicago:20250926T200000
DTEND;TZID=America/Chicago:20250926T213000
DTSTAMP:20260421T120807
CREATED:20250819T160136Z
LAST-MODIFIED:20250819T160136Z
UID:11030-1758916800-1758922200@superhits935.com
SUMMARY:Brian Regan is coming to Rhythm City Casino
DESCRIPTION:Brian Regan is coming to Rhythm City Casino to perform in the Event Center on Friday\, September 26 at 8 PM! Tickets will be available online at rhythmcitycasino.com or at The Market at Rhythm City for $45\, $55\, $65\, $70\, and $85 plus applicable online/phone ticketing fee (this fee is waived when tickets are purchased at The Market Gift Shop inside Rhythm City Casino Resort).
URL:https://superhits935.com/event/brian-regan-is-coming-to-rhythm-city-casino/
END:VEVENT
BEGIN:VEVENT
DTSTART;TZID=America/Chicago:20250926T193000
DTEND;TZID=America/Chicago:20250926T220000
DTSTAMP:20260421T120807
CREATED:20250914T181258Z
LAST-MODIFIED:20250914T181258Z
UID:12553-1758915000-1758924000@superhits935.com
SUMMARY:Eric Church with his Free The Machine Tour comes to Milwaukee!
DESCRIPTION:Eric Church with his Free The Machine Tour to Milwaukee to Fiserv Forum on Friday\, Sept. 26 with special guest Marcus King Band! Tickets on sale NOW!
URL:https://superhits935.com/event/eric-church-with-his-free-the-machine-tour-comes-to-milwaukee/
END:VEVENT
BEGIN:VEVENT
DTSTART;TZID=America/Chicago:20250926T193000
DTEND;TZID=America/Chicago:20250926T213000
DTSTAMP:20260421T120807
CREATED:20250914T181040Z
LAST-MODIFIED:20250914T181040Z
UID:12551-1758915000-1758922200@superhits935.com
SUMMARY:Stairway to Zepplin at the Dixon Historic Theatre
DESCRIPTION:Stairway to Zepplin at the Dixon Historic Theatre 7:30pm\, for tickets go to https://dixontheatre.com/
URL:https://superhits935.com/event/stairway-to-zepplin-at-the-dixon-historic-theatre/
END:VEVENT
BEGIN:VEVENT
DTSTART;TZID=America/Chicago:20250926T190000
DTEND;TZID=America/Chicago:20250926T210000
DTSTAMP:20260421T120807
CREATED:20250914T182003Z
LAST-MODIFIED:20250914T182003Z
UID:12567-1758913200-1758920400@superhits935.com
SUMMARY:High School Football (Winnebago @ Byron LIVE on The Coyote)
DESCRIPTION:High School Football (Winnebago @ Byron LIVE on The Coyote) pregame starts at 6:45pm. Listen on the radio at 102.3 The Coyote\, online at www.1023thecoyote.net also at https://1023thecoyote.net/live-high-school-sports/ along with\, The Coyote Mobile App the iHeart Radio App\, Alexa\, Tunein App\, Google Home & Apple Carplay.
URL:https://superhits935.com/event/high-school-football-winnebago-byron-live-on-the-coyote/
END:VEVENT
BEGIN:VEVENT
DTSTART;TZID=America/Chicago:20250926T190000
DTEND;TZID=America/Chicago:20250926T210000
DTSTAMP:20260421T120807
CREATED:20250914T181903Z
LAST-MODIFIED:20250914T181903Z
UID:12565-1758913200-1758920400@superhits935.com
SUMMARY:High School Football (LaSalle-Peru @ Rochelle LIVE on SuperHits 93.5)
DESCRIPTION:High School Football (LaSalle-Peru @ Rochelle LIVE on SuperHits 93.5) pregame starts at 6:45pm. Listen on the radio at SuperHits 93.5 FM\, online at www.superhits935.com also at https://superhits935.com/live-high-school-sports/ along with\, The SuperHits 93.5 Mobile App the iHeart Radio App\, Alexa\, Tunein App\, Google Home & Apple Carplay.
URL:https://superhits935.com/event/high-school-football-lasalle-peru-rochelle-live-on-superhits-93-5/
END:VEVENT
BEGIN:VEVENT
DTSTART;TZID=America/Chicago:20250925T183000
DTEND;TZID=America/Chicago:20250925T220000
DTSTAMP:20260421T120807
CREATED:20250914T180914Z
LAST-MODIFIED:20250914T180914Z
UID:12549-1758825000-1758837600@superhits935.com
SUMMARY:NFL Football Seattle @ Arizona on SuperHits 93.5
DESCRIPTION:NFL Football Seattle @ Arizona 6:30pm on SuperHits 93.5
URL:https://superhits935.com/event/nfl-football-seattle-arizona-on-superhits-93-5/
END:VEVENT
BEGIN:VEVENT
DTSTART;TZID=America/Chicago:20250923T173000
DTEND;TZID=America/Chicago:20250923T193000
DTSTAMP:20260421T120807
CREATED:20250914T180806Z
LAST-MODIFIED:20250914T180806Z
UID:12547-1758648600-1758655800@superhits935.com
SUMMARY:Shane Huber State Farm Cruise Nights & Food Trucks
DESCRIPTION:Shane Huber State Farm Cruise Nights & Food Trucks 5:30-7:30 (last of the season)
URL:https://superhits935.com/event/shane-huber-state-farm-cruise-nights-food-trucks-2/
END:VEVENT
BEGIN:VEVENT
DTSTART;TZID=America/Chicago:20250922T180000
DTEND;TZID=America/Chicago:20250922T220000
DTSTAMP:20260421T120807
CREATED:20250914T180728Z
LAST-MODIFIED:20250914T180728Z
UID:12545-1758564000-1758578400@superhits935.com
SUMMARY:NFL Football Detroit @ Baltimore on SuperHits 93.5
DESCRIPTION:NFL Football Detroit @ Baltimore 6pm on SuperHits 93.5
URL:https://superhits935.com/event/nfl-football-detroit-baltimore-on-superhits-93-5/
END:VEVENT
BEGIN:VEVENT
DTSTART;TZID=America/Chicago:20250921T183000
DTEND;TZID=America/Chicago:20250921T220000
DTSTAMP:20260421T120807
CREATED:20250907T183553Z
LAST-MODIFIED:20250907T183553Z
UID:12142-1758479400-1758492000@superhits935.com
SUMMARY:NFL Football Kansas City @ NY Giants on SuperHits 93.5
DESCRIPTION:NFL Football Kansas City @ NY Giants 6:30pm on SuperHits 93.5
URL:https://superhits935.com/event/nfl-football-kansas-city-ny-giants-on-superhits-93-5/
END:VEVENT
BEGIN:VEVENT
DTSTART;TZID=America/Chicago:20250920T190000
DTEND;TZID=America/Chicago:20250920T220000
DTSTAMP:20260421T120807
CREATED:20250907T183510Z
LAST-MODIFIED:20250907T183510Z
UID:12140-1758394800-1758405600@superhits935.com
SUMMARY:Lee Brice\, Jackson Dean and Lewis Brice LIVE at Rosemont Theatre
DESCRIPTION:Lee Brice \, Jackson Dean and Lewis Brice LIVE at Rosemont Theatre 7pm\, for tickets go to ticketmaster.com
URL:https://superhits935.com/event/lee-brice-jackson-dean-and-lewis-brice-live-at-rosemont-theatre/
END:VEVENT
BEGIN:VEVENT
DTSTART;TZID=America/Chicago:20250920T170000
DTEND;TZID=America/Chicago:20250920T210000
DTSTAMP:20260421T120807
CREATED:20250915T204837Z
LAST-MODIFIED:20250915T204837Z
UID:12622-1758387600-1758402000@superhits935.com
SUMMARY:Let’s Get Lit Fall Night Market
DESCRIPTION:The countdown is on to the Let’s Get Lit Fall Night Market happening Saturday\, September 20th from 5–9 PM in the back lot of 407 Lincoln Hwy in Rochelle.\nJoin us for an unforgettable evening filled with live music\, delicious food & drinks\, over 30 unique vendors\, art\, and more! This is your chance to shop small\, support local makers\, and connect with your community. Grab your friends\, mark your calendars\, and spend the night celebrating creativity\, community\, and small business. You do not want to miss this! Let’s Get Lit Fall Night Market Saturday September 20th 5-9pm!
URL:https://superhits935.com/event/lets-get-lit-fall-night-market/
END:VEVENT
BEGIN:VEVENT
DTSTART;TZID=America/Chicago:20250920T150000
DTEND;TZID=America/Chicago:20250920T190000
DTSTAMP:20260421T120807
CREATED:20250907T183420Z
LAST-MODIFIED:20250907T183420Z
UID:12138-1758380400-1758394800@superhits935.com
SUMMARY:NIU Huskies Football at Mississippi State
DESCRIPTION:NIU Huskies Football at Mississippi State 3:15pm watch on SEC Network
URL:https://superhits935.com/event/niu-huskies-football-at-mississippi-state/
END:VEVENT
BEGIN:VEVENT
DTSTART;TZID=America/Chicago:20250920T140000
DTEND;TZID=America/Chicago:20250920T180000
DTSTAMP:20260421T120807
CREATED:20250907T183338Z
LAST-MODIFIED:20250907T183338Z
UID:12136-1758376800-1758391200@superhits935.com
SUMMARY:NCAA Football Michigan @ Nebraska on SuperHits 93.5
DESCRIPTION:NCAA Football Michigan @ Nebraska 2pm on SuperHits 93.5
URL:https://superhits935.com/event/ncaa-football-michigan-nebraska-on-superhits-93-5/
END:VEVENT
BEGIN:VEVENT
DTSTART;TZID=America/Chicago:20250920T090000
DTEND;TZID=America/Chicago:20250921T180000
DTSTAMP:20260421T120807
CREATED:20250914T180457Z
LAST-MODIFIED:20250914T180457Z
UID:12543-1758358800-1758477600@superhits935.com
SUMMARY:Hidden Timber Gardens Fall Open House
DESCRIPTION:Hidden Timber Gardens in Chana will host their annual Fall Open House September 20th and 21st from 9am till 6pm. It’s the perfect way to welcome autumn with color\, creativity\, and community. Whether you’re looking to refresh your garden or just love the cozy vibes of fall\, this is an event you won’t want to miss. From Beautiful fall-blooming perennials & annuals\, A festive selection of pumpkins\, gourds & mums\, Corn stalk bundles for the perfect porch display plus Storewide discounts on trees\, shrubs & more. You can also create your own one-of-a-kind porch pot. Hidden Timber Gardens September 20th and 21st\, 462 South Chana Road in Chana!
URL:https://superhits935.com/event/hidden-timber-gardens-fall-open-house/
END:VEVENT
BEGIN:VEVENT
DTSTART;TZID=America/Chicago:20250920T090000
DTEND;TZID=America/Chicago:20250920T170000
DTSTAMP:20260421T120807
CREATED:20250907T183141Z
LAST-MODIFIED:20250907T183141Z
UID:12132-1758358800-1758387600@superhits935.com
SUMMARY:Rooney’s 4th annual BBQ cookoff & The Coyote LIVE!
DESCRIPTION:Do you make the best BBQ\, here is YOUR chance to cook up your favorites and win! It’s Rooney’s 4th annual BBQ cookoff\, Saturday September 20th from 9am till 5pm. The time to sign up is NOW! There will be two categories (ribs and chefs choice)-you can sign up to cook ribs and chef’s choice\, or just ribs. Contestants must prepare their dishes on site the day of the contest\, A portion of the proceeds will be going to 4H and FFA.  Contact Rooney’s in Franklin Grove for more information.  Call 815-456-2590\, or stop in for a signup sheet. Rooney’s 4th annual BBQ cookoff\, Saturday September 20th!
URL:https://superhits935.com/event/rooneys-4th-annual-bbq-cookoff-the-coyote-live/
END:VEVENT
BEGIN:VEVENT
DTSTART;TZID=America/Chicago:20250919T190000
DTEND;TZID=America/Chicago:20250919T230000
DTSTAMP:20260421T120807
CREATED:20250907T182926Z
LAST-MODIFIED:20250907T182926Z
UID:12126-1758308400-1758322800@superhits935.com
SUMMARY:Luke Bryan’s Farm Tour Prairie Grove\, IL at Berning Family Farms
DESCRIPTION:Luke Bryan’s Farm Tour Presented by Bayer\, September 19th  Prairie Grove\, IL at Berning Family Farms. Tickets on sale now at Luke Bryan.com VIP and General Admission tickets\, along with parking all available.
URL:https://superhits935.com/event/luke-bryans-farm-tour-prairie-grove-il-at-berning-family-farms/
END:VEVENT
BEGIN:VEVENT
DTSTART;TZID=America/Chicago:20250919T190000
DTEND;TZID=America/Chicago:20250919T210000
DTSTAMP:20260421T120807
CREATED:20250907T183854Z
LAST-MODIFIED:20250907T183854Z
UID:12146-1758308400-1758315600@superhits935.com
SUMMARY:High School Football (Byron @ Stillman Valley LIVE on The Coyote)
DESCRIPTION:High School Football (Byron @ Stillman Valley LIVE on The Coyote) pregame starts at 6:45pm. Listen on the radio at 102.3 The Coyote\, online at www.1023thecoyote.net also at https://1023thecoyote.net/live-high-school-sports/ along with\, The Coyote Mobile App the iHeart Radio App\, Alexa\, Tunein App\, Google Home & Apple Carplay.
URL:https://superhits935.com/event/high-school-football-byron-stillman-valley-live-on-the-coyote/
END:VEVENT
BEGIN:VEVENT
DTSTART;TZID=America/Chicago:20250919T190000
DTEND;TZID=America/Chicago:20250919T210000
DTSTAMP:20260421T120807
CREATED:20250907T183747Z
LAST-MODIFIED:20250907T183747Z
UID:12144-1758308400-1758315600@superhits935.com
SUMMARY:High School Football (Rochelle @ Sycamore LIVE on SuperHits 93.5)
DESCRIPTION:High School Football (Rochelle @ Sycamore LIVE on SuperHits 93.5) pregame starts at 6:45pm. Listen on the radio at SuperHits 93.5 FM\, online at www.superhits935.com also at https://superhits935.com/live-high-school-sports/ along with\, The SuperHits 93.5 Mobile App the iHeart Radio App\, Alexa\, Tunein App\, Google Home & Apple Carplay.
URL:https://superhits935.com/event/high-school-football-rochelle-sycamore-live-on-superhits-93-5/
END:VEVENT
END:VCALENDAR