BEGIN:VCALENDAR
VERSION:2.0
PRODID:-//Superhits 93.5 - ECPv6.15.20//NONSGML v1.0//EN
CALSCALE:GREGORIAN
METHOD:PUBLISH
X-WR-CALNAME:Superhits 93.5
X-ORIGINAL-URL:https://superhits935.com
X-WR-CALDESC:Events for Superhits 93.5
REFRESH-INTERVAL;VALUE=DURATION:PT1H
X-Robots-Tag:noindex
X-PUBLISHED-TTL:PT1H
BEGIN:VTIMEZONE
TZID:America/Chicago
BEGIN:DAYLIGHT
TZOFFSETFROM:-0600
TZOFFSETTO:-0500
TZNAME:CDT
DTSTART:20240310T080000
END:DAYLIGHT
BEGIN:STANDARD
TZOFFSETFROM:-0500
TZOFFSETTO:-0600
TZNAME:CST
DTSTART:20241103T070000
END:STANDARD
BEGIN:DAYLIGHT
TZOFFSETFROM:-0600
TZOFFSETTO:-0500
TZNAME:CDT
DTSTART:20250309T080000
END:DAYLIGHT
BEGIN:STANDARD
TZOFFSETFROM:-0500
TZOFFSETTO:-0600
TZNAME:CST
DTSTART:20251102T070000
END:STANDARD
BEGIN:DAYLIGHT
TZOFFSETFROM:-0600
TZOFFSETTO:-0500
TZNAME:CDT
DTSTART:20260308T080000
END:DAYLIGHT
BEGIN:STANDARD
TZOFFSETFROM:-0500
TZOFFSETTO:-0600
TZNAME:CST
DTSTART:20261101T070000
END:STANDARD
END:VTIMEZONE
BEGIN:VEVENT
DTSTART;TZID=America/Chicago:20250430T163000
DTEND;TZID=America/Chicago:20250430T190000
DTSTAMP:20260423T053613
CREATED:20250428T152857Z
LAST-MODIFIED:20250428T152857Z
UID:5267-1746030600-1746039600@superhits935.com
SUMMARY:Morris @ Rochelle Hubs LIVE
DESCRIPTION:Morris @ Rochelle Hubs\, pregame starts at 4:20pm LIVE online at https://superhits935.com/live-high-school-sports/
URL:https://superhits935.com/event/morris-rochelle-hubs-live/
END:VEVENT
BEGIN:VEVENT
DTSTART;TZID=America/Chicago:20250428T163000
DTEND;TZID=America/Chicago:20250428T190000
DTSTAMP:20260423T053613
CREATED:20250421T125723Z
LAST-MODIFIED:20250421T125723Z
UID:4872-1745857800-1745866800@superhits935.com
SUMMARY:Ottawa at Rochelle Lady Hubs Softball LIVE
DESCRIPTION:Ottawa at Rochelle Lady Hubs Softball\, pregame starts at 4:20pm LIVE online at https://superhits935.com/live-high-school-sports/
URL:https://superhits935.com/event/ottawa-at-rochelle-lady-hubs-softball-live/
END:VEVENT
BEGIN:VEVENT
DTSTART;TZID=America/Chicago:20250426T120000
DTEND;TZID=America/Chicago:20250426T150000
DTSTAMP:20260423T053613
CREATED:20250420T181506Z
LAST-MODIFIED:20250420T181506Z
UID:4816-1745668800-1745679600@superhits935.com
SUMMARY:Hy-Vee’s Wedding Expo
DESCRIPTION:Plan your dream wedding effortlessly at Hy-Vee in Sycamore\, Saturday April 26th from Noon-3pm during Hy-Vee’s Wedding Expo. Discover premium services from Hy-Vee bakery\, catering\, floral and wine & spirits along with various other vendors such as limo services\, photographers\, makeup artist and more. Simplify your planning and make your dream celebration reality at Hy-Vee’s wedding expo Saturday April 26th from Noon-3pm 2700 DeKalb Ave Sycamore\, Hy-Vee where there’s a helpful smile in every isle.
URL:https://superhits935.com/event/hy-vees-wedding-expo/
END:VEVENT
BEGIN:VEVENT
DTSTART;TZID=America/Chicago:20250426T110000
DTEND;TZID=America/Chicago:20250426T140000
DTSTAMP:20260423T053613
CREATED:20250421T125109Z
LAST-MODIFIED:20250421T125109Z
UID:4864-1745665200-1745676000@superhits935.com
SUMMARY:CAN food truck fair downtown Rochelle
DESCRIPTION:Don’t’ miss out on the CAN food truck fair\, in downtown Rochelle Saturday\, April 26th from 11 am to 2 pm. In the parking lot south of the museum on 6th Street. Great food from \n\nRalfie’s BBQ\nLittle O’s Frozen Treats\nCousins Maine Lobster\nAnd\nEl Pastor Tacos\n\nThe Community Action Network in Rochelle is a local organization dedicated to providing support and resources to the community. Stop by for some great food while supporting a great cause.
URL:https://superhits935.com/event/can-food-truck-fair-downtown-rochelle/
END:VEVENT
BEGIN:VEVENT
DTSTART;TZID=America/Chicago:20250425T163000
DTEND;TZID=America/Chicago:20250425T190000
DTSTAMP:20260423T053613
CREATED:20250421T125350Z
LAST-MODIFIED:20250421T125350Z
UID:4870-1745598600-1745607600@superhits935.com
SUMMARY:Rockford Lutheran at Rochelle Lady Hubs Softball LIVE
DESCRIPTION:Rockford Lutheran at Rochelle Lady Hubs Softball\, pregame starts at 4:20pm LIVE online at https://superhits935.com/live-high-school-sports/
URL:https://superhits935.com/event/rockford-lutheran-at-rochelle-lady-hubs-softball-live/
END:VEVENT
BEGIN:VEVENT
DTSTART;TZID=America/Chicago:20250424T163000
DTEND;TZID=America/Chicago:20250424T190000
DTSTAMP:20260423T053613
CREATED:20250421T125237Z
LAST-MODIFIED:20250421T125237Z
UID:4868-1745512200-1745521200@superhits935.com
SUMMARY:Kaneland at Rochelle Hubs Baseball LIVE
DESCRIPTION:Kaneland at Rochelle Hubs Baseball\, pregame starts at 4:20pm LIVE online at https://superhits935.com/live-high-school-sports/
URL:https://superhits935.com/event/kaneland-at-rochelle-hubs-baseball-live-2/
END:VEVENT
BEGIN:VEVENT
DTSTART;TZID=America/Chicago:20250424T160000
DTEND;TZID=America/Chicago:20250424T190000
DTSTAMP:20260423T053613
CREATED:20250330T181314Z
LAST-MODIFIED:20250330T181314Z
UID:3696-1745510400-1745521200@superhits935.com
SUMMARY:DeKalb Chamber of Commerce Local Showcase & Spring Show
DESCRIPTION:Spring is in the air — and so is the excitement at the FREE Local Showcase & Spring Show presented by XCEL Orthopedics! \nJoin the DeKalb Chamber of Commerce and over 100 vendors on Thursday\, April 24th at the NIU Convocation Center from 4 to 7 PM for a one-of-a-kind community event! \nDiscover local businesses\, experience live demos\, explore interactive displays\, and find out who’s hiring — there’s something for everyone! \nThe Local Showcase & Spring Show is made possible thanks to generous support from local sponsors including 102.3 The Coyote\, AAA Roofing Contractors\, Credit Union 1\, Meta\, FNBO\, Northwestern Medicine\, and the Daily Chronicle. \nMark your calendar for April 24th — we can’t wait to see you there!
URL:https://superhits935.com/event/dekalb-chamber-of-commerce-local-showcase-spring-show/
END:VEVENT
BEGIN:VEVENT
DTSTART;TZID=America/Chicago:20250424T160000
DTEND;TZID=America/Chicago:20250424T190000
DTSTAMP:20260423T053613
CREATED:20250303T222057Z
LAST-MODIFIED:20250303T222057Z
UID:2136-1745510400-1745521200@superhits935.com
SUMMARY:Hy-Vee in Sycamore for Steak Night for a Cause!
DESCRIPTION:Mark your calendars! Join Hy Vee in Sycamore for Steak Night for a Cause on Thursday\, April 24th from 4-7PM! For every meal purchased\, Hy-Vee will donate $1 to First Lutheran Church which will benefit\, Hope Haven\, Safe Passage\, Salvation Army\, and LOVE\, Inc.  Each dinner includes a Chef’s Choice grilled steak\, garlic mashed potatoes\, and a fresh vegetable for only $10! Stop by for a delicious dinner and help support a great cause! At your Local Hy Vee in Sycamore\, where there’s a helpful smile in every isle.
URL:https://superhits935.com/event/hy-vee-in-sycamore-for-steak-night-for-a-cause/
END:VEVENT
BEGIN:VEVENT
DTSTART;TZID=America/Chicago:20250421T163000
DTEND;TZID=America/Chicago:20250421T190000
DTSTAMP:20260423T053613
CREATED:20250414T144827Z
LAST-MODIFIED:20250414T144827Z
UID:4528-1745253000-1745262000@superhits935.com
SUMMARY:Kaneland at Rochelle Hubs Baseball LIVE
DESCRIPTION:Kaneland at Rochelle Hubs Baseball\, pregame starts at 4:20pm LIVE online at https://superhits935.com/live-high-school-sports/
URL:https://superhits935.com/event/kaneland-at-rochelle-hubs-baseball-live/
END:VEVENT
BEGIN:VEVENT
DTSTART;TZID=America/Chicago:20250419T200000
DTEND;TZID=America/Chicago:20250419T220000
DTSTAMP:20260423T053613
CREATED:20250413T180432Z
LAST-MODIFIED:20250413T180432Z
UID:4463-1745092800-1745100000@superhits935.com
SUMMARY:Tigirlily Gold Featuring Emily Elgin at Rhythm City
DESCRIPTION:Tigirlily Gold\nSister duo Tigirlily Gold has been playing music together since they could walk\, and officially formed their band in high school. Growing up\, they crisscrossed the Midwest\, growing a fierce fan base and playing amphitheaters across their home-state of North Dakota. After moving to Nashville\, they landed a weekly residence at Dierks Bentley’s Whiskey Row on Nashville’s famed lower Broadway. Playing four-hour sets\, three to four nights a week\, the sisters developed a performance style that’s not only captivating and fun but shows just how entertaining is in their blood. Tickets on sale now at https://www.rhythmcitycasino.com/
URL:https://superhits935.com/event/tigirlily-gold-featuring-emily-elgin-at-rhythm-city/
END:VEVENT
BEGIN:VEVENT
DTSTART;TZID=America/Chicago:20250419T200000
DTEND;TZID=America/Chicago:20250419T220000
DTSTAMP:20260423T053613
CREATED:20250323T171749Z
LAST-MODIFIED:20250323T171749Z
UID:3337-1745092800-1745100000@superhits935.com
SUMMARY:Jon Anderson & The Band of Geeks at the Coronado
DESCRIPTION:Don’t miss Jon Anderson & The Band of Geeks at the Coronado in Rockford April 19th at 8pm. Tickets on sale now at all the box office and all Ticketmaster Location or call 815-968-5222 with SuperHits 93.5!
URL:https://superhits935.com/event/jon-anderson-the-band-of-geeks-at-the-coronado/
END:VEVENT
BEGIN:VEVENT
DTSTART;TZID=America/Chicago:20250419T103000
DTEND;TZID=America/Chicago:20250419T113000
DTSTAMP:20260423T053613
CREATED:20250318T160250Z
LAST-MODIFIED:20250318T160250Z
UID:3054-1745058600-1745062200@superhits935.com
SUMMARY:Easter Eggstravaganza Copper Park Rochelle
DESCRIPTION:The Easter Eggstravaganza returns to Cooper Park in Rochelle Saturday\, April 19th. Presented by The City of Rochelle\, Rochelle Community Hospital\, 102.3 The Coyote & SuperHits 93.5! \nBring the whole family to the Area’s biggest Easter Event\, Eggstravaganza will be held Saturday April 19th 11am sharp at Cooper Park in Rochelle. It’s open to all area kids 0-10 years old and those with disabilities. Age groups will be split 0-5 and 6-10. A special kids with disabilities area will start at 10:45am. \nThe FUN starts at 11am sharp with the Egg Scramble collect all the candy\, eggs and goodies\, get your FREE picture with The Easter Bunny AND also meet and get a photo with Cinderella! \nOver 8\,000 + eggs filled with candy and prizes\, and it’s all FREE to attend! We can’t wait to see you there with 102.3 The Coyote & SuperHits 93.5! Event will take place rain or shine. \nThank you to all these community sponsors making it possible\, and thanks to The Hub City Senior Center & Liberty Village of Rochelle for helping stuff all the eggs! \nEaster Eggstravaganza is Sponsored by:\nThe City of Rochelle\nRochelle Community Hospital\nFairways Golf Course\nRochelle Chamber of Commerce\nKen Nelson Auto Group\nFlight Deck Bar & Grill\nJosh Messenger with Country Financial\nHeadons Fine Meat\nHidden Timber Gardens\nLuna\nBearrows Real Estate & Auction Co. along with Matt Hart\nDreams Come True Events\nRyder of Rochelle\nDestiny Studios in Rochelle\nGreat Clips in Rochelle\nStillman Bank\nQueen’s Trucking\nHub City Senior Center\nREC Center in Rochelle\nAnderson Plumbing & Heating\nRochelle Foods\nCES\nSyco Escape Rooms\nDown Range\nTyson of Rochelle\nGeneral Mills\nRoy’s Transfer\nLiberty Village of Rochelle\nBlackstone Bar & Grill\nRoiel Scoop Rochelle’s Finest Ice Cream\nHelix Technologies – Rochelle\nThe Spark Shop\nHy-Vee in Sycamore\nThe End Zone in downtown Rochelle\nHackbarth Truck and Equipment\nSilgan Containers\nHolcomb Bank\nTerri Schaefer State Farm\nBrowns Tax Service\nSilver Fox in Ashton\nHilliker Electric
URL:https://superhits935.com/event/easter-eggstravaganza-copper-park-rochelle/
END:VEVENT
BEGIN:VEVENT
DTSTART;TZID=America/Chicago:20250416T163000
DTEND;TZID=America/Chicago:20250416T190000
DTSTAMP:20260423T053613
CREATED:20250414T144735Z
LAST-MODIFIED:20250414T144735Z
UID:4526-1744821000-1744830000@superhits935.com
SUMMARY:Sycamore at Rochelle Hubs Baseball LIVE
DESCRIPTION:Sycamore at Rochelle Hubs Baseball\, pregame starts at 4:20pm LIVE online at https://superhits935.com/live-high-school-sports/
URL:https://superhits935.com/event/sycamore-at-rochelle-hubs-baseball-live/
END:VEVENT
BEGIN:VEVENT
DTSTART;TZID=America/Chicago:20250415T090000
DTEND;TZID=America/Chicago:20250415T170000
DTSTAMP:20260423T053613
CREATED:20250406T172309Z
LAST-MODIFIED:20250406T172309Z
UID:4069-1744707600-1744736400@superhits935.com
SUMMARY:Hidden Timber Gardens Open for the Season!
DESCRIPTION:Hidden Timber Gardens in Chana will be opening for the season Tuesday April 15th at 9am. Celebrate the arrival of spring at Hidden Timber Gardens\, come on over and enjoy all the blooming plants\, and see what’s new for 2025. Take advantage of spring specials\, mulch and blended compost are also available. Check out their upcoming workshops by going to Hidden Timber Gardens.com or on Facebook. Hidden Timber Gardens 462 S Chana Road in Chana. 815-751-4162.
URL:https://superhits935.com/event/hidden-timber-gardens-open-for-the-season/
END:VEVENT
BEGIN:VEVENT
DTSTART;TZID=America/Chicago:20250414T163000
DTEND;TZID=America/Chicago:20250414T193000
DTSTAMP:20260423T053613
CREATED:20250407T151357Z
LAST-MODIFIED:20250407T151357Z
UID:4144-1744648200-1744659000@superhits935.com
SUMMARY:Sycamore at Rochelle Lady Hubs Baseball LIVE
DESCRIPTION:Sycamore at Rochelle Lady Hubs Baseball\, pregame starts at 4:20pm LIVE online at https://superhits935.com/live-high-school-sports/
URL:https://superhits935.com/event/sycamore-at-rochelle-lady-hubs-baseball-live/
END:VEVENT
BEGIN:VEVENT
DTSTART;TZID=America/Chicago:20250412T200000
DTEND;TZID=America/Chicago:20250412T220000
DTSTAMP:20260423T053613
CREATED:20250406T172931Z
LAST-MODIFIED:20250406T172931Z
UID:4073-1744488000-1744495200@superhits935.com
SUMMARY:Corey Kent at Joe's on Weed St.
DESCRIPTION:Corey Kent at Joe’s on Weed St. \nVIP Experience Includes:1 General Admission ticket to the showEarly entry to the venue20-minute acoustic performance from Corey KentMeet & greet with Corey Kent (1 personal photo with Corey on a call phone/camera)VIP Merch Item\nSale Dates and Times:
URL:https://superhits935.com/event/corey-kent-at-joes-on-weed-st/
END:VEVENT
BEGIN:VEVENT
DTSTART;TZID=America/Chicago:20250412T200000
DTEND;TZID=America/Chicago:20250412T220000
DTSTAMP:20260423T053613
CREATED:20250406T172748Z
LAST-MODIFIED:20250406T195502Z
UID:4071-1744488000-1744495200@superhits935.com
SUMMARY:Hi Infidelity at Denim & Diamonds Saloon in Sycamore
DESCRIPTION:Hi Infidelity at Denim & Diamonds Saloon in Sycamore! 8pm\, $10 cover charge.
URL:https://superhits935.com/event/hi-infidelity-at-denim-diamonds-saloon-in-sycamore/
END:VEVENT
BEGIN:VEVENT
DTSTART;TZID=America/Chicago:20250412T180000
DTEND;TZID=America/Chicago:20250412T233000
DTSTAMP:20260423T053613
CREATED:20250318T155736Z
LAST-MODIFIED:20250318T155736Z
UID:3052-1744480800-1744500600@superhits935.com
SUMMARY:Kenny's Place Prom Night
DESCRIPTION:Kenny’s Place in downtown Rochelle will host Prom Night April 12th\, Buzzed By SonSet from 6-9pm and DJ Ang 9pm-2am – dress in your prom era to enter to win King or Queen. 411 Cherry Ave downtown Rochelle.
URL:https://superhits935.com/event/kennys-place-prom-night/
END:VEVENT
BEGIN:VEVENT
DTSTART;TZID=America/Chicago:20250410T163000
DTEND;TZID=America/Chicago:20250410T193000
DTSTAMP:20260423T053613
CREATED:20250407T151307Z
LAST-MODIFIED:20250407T151307Z
UID:4142-1744302600-1744313400@superhits935.com
SUMMARY:Rockford Auburn at Rochelle Hubs Baseball LIVE
DESCRIPTION:Rockford Auburn at Rochelle Hubs Baseball\, pregame starts at 4:20pm LIVE online at https://superhits935.com/live-high-school-sports/
URL:https://superhits935.com/event/rockford-auburn-at-rochelle-hubs-baseball-live/
END:VEVENT
BEGIN:VEVENT
DTSTART;TZID=America/Chicago:20250408T163000
DTEND;TZID=America/Chicago:20250408T190000
DTSTAMP:20260423T053613
CREATED:20250331T145118Z
LAST-MODIFIED:20250331T145118Z
UID:3780-1744129800-1744138800@superhits935.com
SUMMARY:Aurora at Rochelle Hubs Baseball LIVE
DESCRIPTION:Aurora at Rochelle Hubs Baseball\, pregame starts at 4:20pm LIVE online at https://superhits935.com/live-high-school-sports/
URL:https://superhits935.com/event/aurora-at-rochelle-hubs-baseball-live/
END:VEVENT
BEGIN:VEVENT
DTSTART;TZID=America/Chicago:20250407T180000
DTEND;TZID=America/Chicago:20250407T220000
DTSTAMP:20260423T053613
CREATED:20250331T145026Z
LAST-MODIFIED:20250331T145026Z
UID:3778-1744048800-1744063200@superhits935.com
SUMMARY:NCAA Basketball Championship Game LIVE on SuperHits 93.5
DESCRIPTION:NCAA Basketball Championship Game\, pregame starts at 6pm on SuperHits 93.5
URL:https://superhits935.com/event/ncaa-basketball-championship-game-live-on-superhits-93-5/
END:VEVENT
BEGIN:VEVENT
DTSTART;TZID=America/Chicago:20250406T070000
DTEND;TZID=America/Chicago:20250406T120000
DTSTAMP:20260423T053613
CREATED:20250323T171207Z
LAST-MODIFIED:20250323T171207Z
UID:3333-1743922800-1743940800@superhits935.com
SUMMARY:Ashton Firemen’s Breakfast
DESCRIPTION:Don’t miss out on the Ashton Firemen’s Breakfast is Sunday April 6th\, Serving from 7am-Noon. Taking place at the Mills and Petrie in Ashton\, Price is only $10 for adults\, $7 for kids aged 6-12\, kids 5 & under eat free. All you can eat- Serving up Pancakes\, Hash Browns\, Scrambled Eggs\, Bacon\, Sausage\, Biscuits & Gravy & Apple Cider Donuts. Ashton Firemen’s Breakfast is Sunday April 6th at the Mills and Petrie in Ashton.
URL:https://superhits935.com/event/ashton-firemens-breakfast/
END:VEVENT
BEGIN:VEVENT
DTSTART;TZID=America/Chicago:20250405T150000
DTEND;TZID=America/Chicago:20250405T230000
DTSTAMP:20260423T053613
CREATED:20250330T181443Z
LAST-MODIFIED:20250331T140730Z
UID:3698-1743865200-1743894000@superhits935.com
SUMMARY:NCAA Basketball Final Four Games LIVE on SuperHits 93.5
DESCRIPTION:NCAA Basketball Final Four Games LIVE on SuperHits 93.5\, pregame starts at 3:00pm on SuperHits 93.5 and online at SuperHits935.com
URL:https://superhits935.com/event/ncaa-basketball-final-four-games-live-on-superhits-93-5/
END:VEVENT
BEGIN:VEVENT
DTSTART;TZID=America/Chicago:20250405T110000
DTEND;TZID=America/Chicago:20250405T170000
DTSTAMP:20260423T053613
CREATED:20250318T154503Z
LAST-MODIFIED:20250318T154503Z
UID:3047-1743850800-1743872400@superhits935.com
SUMMARY:Oregon Chamber Tastes and Treasures
DESCRIPTION:The Oregon Chamber is excited to kick off the first event of the year. The Tastes and Treasures of Oregon! This shop hop event is designed to highlight all businesses\, from retail shops to bars and restaurants\, giving the community a chance to explore and support local favorites. Saturday April 5th 11am till 5pm. Pick up your “passport” at the Oregon Chamber office to the participating shops. Then Take advantage of the deals. For more information contact the Oregon Chamber at 815-732-2100 and online at Oregon I L dot com. It’s Tastes and Treasures of Oregon Saturday April 5th 11am till 5pm.
URL:https://superhits935.com/event/oregon-chamber-tastes-and-treasures/
END:VEVENT
BEGIN:VEVENT
DTSTART;TZID=America/Chicago:20250405T100000
DTEND;TZID=America/Chicago:20250405T140000
DTSTAMP:20260423T053613
CREATED:20250330T180739Z
LAST-MODIFIED:20250330T180739Z
UID:3694-1743847200-1743861600@superhits935.com
SUMMARY:Sycamore Community Expo & Job Fair
DESCRIPTION:The Sycamore Chamber and the Sycamore Park District are proud to again host the 2025 Sycamore Community Expo & Job Fair! \nSaturday\, April 5\, 2025 \n480 Airport Road\nSycamore\, IL 60178 \nBusiness to Business from 10am to 11am\nOpen to the public starting at 11am
URL:https://superhits935.com/event/sycamore-community-expo-job-fair/
END:VEVENT
BEGIN:VEVENT
DTSTART;TZID=America/Chicago:20250405T093000
DTEND;TZID=America/Chicago:20250405T120000
DTSTAMP:20260423T053613
CREATED:20250331T144807Z
LAST-MODIFIED:20250331T144807Z
UID:3776-1743845400-1743854400@superhits935.com
SUMMARY:Princeton at Rochelle Hubs Baseball LIVE
DESCRIPTION:Princeton at Rochelle Hubs Baseball\, pregame starts at 9:50am LIVE online at https://superhits935.com/live-high-school-sports/
URL:https://superhits935.com/event/princeton-at-rochelle-hubs-baseball-live/
END:VEVENT
BEGIN:VEVENT
DTSTART;TZID=America/Chicago:20250404T200000
DTEND;TZID=America/Chicago:20250404T220000
DTSTAMP:20260423T053613
CREATED:20250318T154835Z
LAST-MODIFIED:20250318T154835Z
UID:3049-1743796800-1743804000@superhits935.com
SUMMARY:Chapel Hart LIVE at the Egyptian Theatre
DESCRIPTION:Lights\, cameras\, microphones\, a prayer & HERE THEY GO! Danica and Devynn Hart along with their cousin Trea Swindle\, make up Chapel Hart and have proven they are truly a force to be reckoned with. Their meteoric rise came shortly after appearing on America’s Got Talent and receiving the second ever “Group Golden Buzzer” which prompted America and the rest of the world to pay attention. Deemed as “America’s Sweethearts” as they claimed a spot in the finals\, Chapel Hart received praises from country music pillars such as Tanya Tucker\, Darius Rucker and the one and only Dolly Parton. Shortly afterwards\, the ladies made their Grand Ole Opry debut and received 4 standing ovations. These ladies have found a way to gift wrap their Mississippi roots & Louisiana spunk and share it with listeners around the world. Their colorful and contagious energy has flourished into a full live band experience. Chapel Hart has an amazing ability to tug on your heartstrings with a tender yet powerful ballad\, then have you pumping your fist in unison to the pulse of hard-hitting rock and roll. There’s no experience quite like the Chapel Hart experience!\n\nRESERVED TICKET PRICES – https://egyptiantheatre.org/\n$29 / $39 / $49
URL:https://superhits935.com/event/chapel-hart-live-at-the-egyptian-theatre/
END:VEVENT
BEGIN:VEVENT
DTSTART;TZID=America/Chicago:20250401T160000
DTEND;TZID=America/Chicago:20250401T190000
DTSTAMP:20260423T053613
CREATED:20250331T144431Z
LAST-MODIFIED:20250331T144431Z
UID:3774-1743523200-1743534000@superhits935.com
SUMMARY:Stillman Valley at Rochelle Lady Hubs Softball LIVE
DESCRIPTION:Stillman Valley at Rochelle Lady Hubs Softball\, pregame starts at 4:20pm LIVE online at https://superhits935.com/live-high-school-sports/
URL:https://superhits935.com/event/stillman-valley-at-rochelle-lady-hubs-softball-live/
END:VEVENT
BEGIN:VEVENT
DTSTART;TZID=America/Chicago:20250330T190000
DTEND;TZID=America/Chicago:20250330T210000
DTSTAMP:20260423T053613
CREATED:20250227T172952Z
LAST-MODIFIED:20250227T172952Z
UID:1808-1743361200-1743368400@superhits935.com
SUMMARY:Dirty Dancing live in concert at the Coronado
DESCRIPTION:“See Dirty Dancing live in concert with a movie screening of the classic film a live band on stage at the Coronado Theatre on March 30th. Get tickets at Ticketmaster.com or call 815-968-5222!”
URL:https://superhits935.com/event/dirty-dancing-live-in-concert-at-the-coronado/
END:VEVENT
BEGIN:VEVENT
DTSTART;TZID=America/Chicago:20250329T200000
DTEND;TZID=America/Chicago:20250329T220000
DTSTAMP:20260423T053613
CREATED:20250323T171909Z
LAST-MODIFIED:20250323T171909Z
UID:3339-1743278400-1743285600@superhits935.com
SUMMARY:The Fab Four-The Ultimate Tribute Show
DESCRIPTION:Experience the best Beatles tribute ever\, you won’t want to miss The Fab Four-The Ultimate Tribute. celebrating The Beatle’ 1st visit to the USA\, with performances from the Ed Sullivan show\, the Meet The Beatles album\, and the Beatles’ greatest hits of every era. March 29th at the Coronado Theatre – Get tickets at Ticketmaster.com or call 815-968-5222 with SuperHits 93.5!
URL:https://superhits935.com/event/the-fab-four-the-ultimate-tribute-show/
END:VEVENT
END:VCALENDAR